BEGIN:VCALENDAR
VERSION:2.0
PRODID:-//Simple Gospel Church - ECPv6.15.20//NONSGML v1.0//EN
CALSCALE:GREGORIAN
METHOD:PUBLISH
X-ORIGINAL-URL:https://simplegospelchurch.com
X-WR-CALDESC:Events for Simple Gospel Church
REFRESH-INTERVAL;VALUE=DURATION:PT1H
X-Robots-Tag:noindex
X-PUBLISHED-TTL:PT1H
BEGIN:VTIMEZONE
TZID:America/Chicago
BEGIN:DAYLIGHT
TZOFFSETFROM:-0600
TZOFFSETTO:-0500
TZNAME:CDT
DTSTART:20240310T080000
END:DAYLIGHT
BEGIN:STANDARD
TZOFFSETFROM:-0500
TZOFFSETTO:-0600
TZNAME:CST
DTSTART:20241103T070000
END:STANDARD
BEGIN:DAYLIGHT
TZOFFSETFROM:-0600
TZOFFSETTO:-0500
TZNAME:CDT
DTSTART:20250309T080000
END:DAYLIGHT
BEGIN:STANDARD
TZOFFSETFROM:-0500
TZOFFSETTO:-0600
TZNAME:CST
DTSTART:20251102T070000
END:STANDARD
BEGIN:DAYLIGHT
TZOFFSETFROM:-0600
TZOFFSETTO:-0500
TZNAME:CDT
DTSTART:20260308T080000
END:DAYLIGHT
BEGIN:STANDARD
TZOFFSETFROM:-0500
TZOFFSETTO:-0600
TZNAME:CST
DTSTART:20261101T070000
END:STANDARD
END:VTIMEZONE
BEGIN:VEVENT
DTSTART;TZID=America/Chicago:20250918T080000
DTEND;TZID=America/Chicago:20250920T170000
DTSTAMP:20260420T093655
CREATED:20250801T211732Z
LAST-MODIFIED:20250801T211732Z
UID:10000557-1758182400-1758387600@simplegospelchurch.com
SUMMARY:SGC - South Texas Dove Hunting Trip
DESCRIPTION:Mens – South Texas – Dove Hunting Trip \nDate: Sept. 18th – 20th \nMore details need to be provided before the trip. If you were not able to attend the manditory virtual meeting but would still like to go\, please email as at info@simplegospelchurch.com. \nDeadline to Sign Up: August 28th \n 
URL:https://simplegospelchurch.com/event/sgc-south-texas-dove-hunting-trip/
LOCATION:TX
END:VEVENT
END:VCALENDAR