BEGIN:VCALENDAR
VERSION:2.0
PRODID:-//Simple Gospel Church - ECPv6.15.20//NONSGML v1.0//EN
CALSCALE:GREGORIAN
METHOD:PUBLISH
X-ORIGINAL-URL:https://simplegospelchurch.com
X-WR-CALDESC:Events for Simple Gospel Church
REFRESH-INTERVAL;VALUE=DURATION:PT1H
X-Robots-Tag:noindex
X-PUBLISHED-TTL:PT1H
BEGIN:VTIMEZONE
TZID:America/Chicago
BEGIN:DAYLIGHT
TZOFFSETFROM:-0600
TZOFFSETTO:-0500
TZNAME:CDT
DTSTART:20240310T080000
END:DAYLIGHT
BEGIN:STANDARD
TZOFFSETFROM:-0500
TZOFFSETTO:-0600
TZNAME:CST
DTSTART:20241103T070000
END:STANDARD
BEGIN:DAYLIGHT
TZOFFSETFROM:-0600
TZOFFSETTO:-0500
TZNAME:CDT
DTSTART:20250309T080000
END:DAYLIGHT
BEGIN:STANDARD
TZOFFSETFROM:-0500
TZOFFSETTO:-0600
TZNAME:CST
DTSTART:20251102T070000
END:STANDARD
BEGIN:DAYLIGHT
TZOFFSETFROM:-0600
TZOFFSETTO:-0500
TZNAME:CDT
DTSTART:20260308T080000
END:DAYLIGHT
BEGIN:STANDARD
TZOFFSETFROM:-0500
TZOFFSETTO:-0600
TZNAME:CST
DTSTART:20261101T070000
END:STANDARD
BEGIN:DAYLIGHT
TZOFFSETFROM:-0600
TZOFFSETTO:-0500
TZNAME:CDT
DTSTART:20270314T080000
END:DAYLIGHT
BEGIN:STANDARD
TZOFFSETFROM:-0500
TZOFFSETTO:-0600
TZNAME:CST
DTSTART:20271107T070000
END:STANDARD
END:VTIMEZONE
BEGIN:VEVENT
DTSTART;TZID=America/Chicago:20260125T100000
DTEND;TZID=America/Chicago:20260125T120000
DTSTAMP:20260420T034302
CREATED:20250317T190309Z
LAST-MODIFIED:20250526T000336Z
UID:10000321-1769335200-1769342400@simplegospelchurch.com
SUMMARY:Sunday Service
DESCRIPTION:Join us every Sunday to find real relationships that bring forth steadfast life change\, through the love of Christ experienced by everyone! \nService Time: 10AM \nLocation: Lowe Elementary School \nWe look forward to doing life with you!
URL:https://simplegospelchurch.com/event/sunday-service-simple-gospel-church/2026-01-25/
LOCATION:Lowe Elementary School\, 31502 Conifer Farm Drive\, Hockley\, TX\, 77447\, United States
END:VEVENT
BEGIN:VEVENT
DTSTART;TZID=America/Chicago:20260118T100000
DTEND;TZID=America/Chicago:20260118T120000
DTSTAMP:20260420T034302
CREATED:20250317T190309Z
LAST-MODIFIED:20250526T000336Z
UID:10000320-1768730400-1768737600@simplegospelchurch.com
SUMMARY:Sunday Service
DESCRIPTION:Join us every Sunday to find real relationships that bring forth steadfast life change\, through the love of Christ experienced by everyone! \nService Time: 10AM \nLocation: Lowe Elementary School \nWe look forward to doing life with you!
URL:https://simplegospelchurch.com/event/sunday-service-simple-gospel-church/2026-01-18/
LOCATION:Lowe Elementary School\, 31502 Conifer Farm Drive\, Hockley\, TX\, 77447\, United States
END:VEVENT
BEGIN:VEVENT
DTSTART;TZID=America/Chicago:20260111T100000
DTEND;TZID=America/Chicago:20260111T120000
DTSTAMP:20260420T034302
CREATED:20250317T190309Z
LAST-MODIFIED:20250526T000336Z
UID:10000319-1768125600-1768132800@simplegospelchurch.com
SUMMARY:Sunday Service
DESCRIPTION:Join us every Sunday to find real relationships that bring forth steadfast life change\, through the love of Christ experienced by everyone! \nService Time: 10AM \nLocation: Lowe Elementary School \nWe look forward to doing life with you!
URL:https://simplegospelchurch.com/event/sunday-service-simple-gospel-church/2026-01-11/
LOCATION:Lowe Elementary School\, 31502 Conifer Farm Drive\, Hockley\, TX\, 77447\, United States
END:VEVENT
BEGIN:VEVENT
DTSTART;TZID=America/Chicago:20260104T100000
DTEND;TZID=America/Chicago:20260104T120000
DTSTAMP:20260420T034302
CREATED:20250317T190309Z
LAST-MODIFIED:20250526T000336Z
UID:10000318-1767520800-1767528000@simplegospelchurch.com
SUMMARY:Sunday Service
DESCRIPTION:Join us every Sunday to find real relationships that bring forth steadfast life change\, through the love of Christ experienced by everyone! \nService Time: 10AM \nLocation: Lowe Elementary School \nWe look forward to doing life with you!
URL:https://simplegospelchurch.com/event/sunday-service-simple-gospel-church/2026-01-04/
LOCATION:Lowe Elementary School\, 31502 Conifer Farm Drive\, Hockley\, TX\, 77447\, United States
END:VEVENT
BEGIN:VEVENT
DTSTART;TZID=America/Chicago:20251228T100000
DTEND;TZID=America/Chicago:20251228T120000
DTSTAMP:20260420T034302
CREATED:20250317T190309Z
LAST-MODIFIED:20250526T000336Z
UID:10000317-1766916000-1766923200@simplegospelchurch.com
SUMMARY:Sunday Service
DESCRIPTION:Join us every Sunday to find real relationships that bring forth steadfast life change\, through the love of Christ experienced by everyone! \nService Time: 10AM \nLocation: Lowe Elementary School \nWe look forward to doing life with you!
URL:https://simplegospelchurch.com/event/sunday-service-simple-gospel-church/2025-12-28/
LOCATION:Lowe Elementary School\, 31502 Conifer Farm Drive\, Hockley\, TX\, 77447\, United States
END:VEVENT
BEGIN:VEVENT
DTSTART;TZID=America/Chicago:20251221T100000
DTEND;TZID=America/Chicago:20251221T120000
DTSTAMP:20260420T034302
CREATED:20250317T190309Z
LAST-MODIFIED:20250526T000336Z
UID:10000316-1766311200-1766318400@simplegospelchurch.com
SUMMARY:Sunday Service
DESCRIPTION:Join us every Sunday to find real relationships that bring forth steadfast life change\, through the love of Christ experienced by everyone! \nService Time: 10AM \nLocation: Lowe Elementary School \nWe look forward to doing life with you!
URL:https://simplegospelchurch.com/event/sunday-service-simple-gospel-church/2025-12-21/
LOCATION:Lowe Elementary School\, 31502 Conifer Farm Drive\, Hockley\, TX\, 77447\, United States
END:VEVENT
BEGIN:VEVENT
DTSTART;TZID=America/Chicago:20251214T100000
DTEND;TZID=America/Chicago:20251214T120000
DTSTAMP:20260420T034302
CREATED:20250317T190309Z
LAST-MODIFIED:20250526T000336Z
UID:10000315-1765706400-1765713600@simplegospelchurch.com
SUMMARY:Sunday Service
DESCRIPTION:Join us every Sunday to find real relationships that bring forth steadfast life change\, through the love of Christ experienced by everyone! \nService Time: 10AM \nLocation: Lowe Elementary School \nWe look forward to doing life with you!
URL:https://simplegospelchurch.com/event/sunday-service-simple-gospel-church/2025-12-14/
LOCATION:Lowe Elementary School\, 31502 Conifer Farm Drive\, Hockley\, TX\, 77447\, United States
END:VEVENT
BEGIN:VEVENT
DTSTART;TZID=America/Chicago:20251207T100000
DTEND;TZID=America/Chicago:20251207T120000
DTSTAMP:20260420T034302
CREATED:20250317T190309Z
LAST-MODIFIED:20250526T000336Z
UID:10000314-1765101600-1765108800@simplegospelchurch.com
SUMMARY:Sunday Service
DESCRIPTION:Join us every Sunday to find real relationships that bring forth steadfast life change\, through the love of Christ experienced by everyone! \nService Time: 10AM \nLocation: Lowe Elementary School \nWe look forward to doing life with you!
URL:https://simplegospelchurch.com/event/sunday-service-simple-gospel-church/2025-12-07/
LOCATION:Lowe Elementary School\, 31502 Conifer Farm Drive\, Hockley\, TX\, 77447\, United States
END:VEVENT
BEGIN:VEVENT
DTSTART;TZID=America/Chicago:20251130T100000
DTEND;TZID=America/Chicago:20251130T120000
DTSTAMP:20260420T034302
CREATED:20250317T190309Z
LAST-MODIFIED:20250526T000336Z
UID:10000313-1764496800-1764504000@simplegospelchurch.com
SUMMARY:Sunday Service
DESCRIPTION:Join us every Sunday to find real relationships that bring forth steadfast life change\, through the love of Christ experienced by everyone! \nService Time: 10AM \nLocation: Lowe Elementary School \nWe look forward to doing life with you!
URL:https://simplegospelchurch.com/event/sunday-service-simple-gospel-church/2025-11-30/
LOCATION:Lowe Elementary School\, 31502 Conifer Farm Drive\, Hockley\, TX\, 77447\, United States
END:VEVENT
BEGIN:VEVENT
DTSTART;TZID=America/Chicago:20251123T100000
DTEND;TZID=America/Chicago:20251123T120000
DTSTAMP:20260420T034302
CREATED:20250317T190309Z
LAST-MODIFIED:20250526T000336Z
UID:10000312-1763892000-1763899200@simplegospelchurch.com
SUMMARY:Sunday Service
DESCRIPTION:Join us every Sunday to find real relationships that bring forth steadfast life change\, through the love of Christ experienced by everyone! \nService Time: 10AM \nLocation: Lowe Elementary School \nWe look forward to doing life with you!
URL:https://simplegospelchurch.com/event/sunday-service-simple-gospel-church/2025-11-23/
LOCATION:Lowe Elementary School\, 31502 Conifer Farm Drive\, Hockley\, TX\, 77447\, United States
END:VEVENT
BEGIN:VEVENT
DTSTART;TZID=America/Chicago:20251116T100000
DTEND;TZID=America/Chicago:20251116T120000
DTSTAMP:20260420T034302
CREATED:20250317T190309Z
LAST-MODIFIED:20250526T000336Z
UID:10000311-1763287200-1763294400@simplegospelchurch.com
SUMMARY:Sunday Service
DESCRIPTION:Join us every Sunday to find real relationships that bring forth steadfast life change\, through the love of Christ experienced by everyone! \nService Time: 10AM \nLocation: Lowe Elementary School \nWe look forward to doing life with you!
URL:https://simplegospelchurch.com/event/sunday-service-simple-gospel-church/2025-11-16/
LOCATION:Lowe Elementary School\, 31502 Conifer Farm Drive\, Hockley\, TX\, 77447\, United States
END:VEVENT
BEGIN:VEVENT
DTSTART;TZID=America/Chicago:20251115T170000
DTEND;TZID=America/Chicago:20251115T190000
DTSTAMP:20260420T034302
CREATED:20251023T210710Z
LAST-MODIFIED:20251023T210710Z
UID:10000564-1763226000-1763233200@simplegospelchurch.com
SUMMARY:Fall Feast - Holiday Potluck - Free Event
DESCRIPTION:Please scan QR code to sign up or click the link below to let us know who will be attending and what you will be able to bring! \nhttps://www.signupgenius.com/go/10C0544AEA722A3FDCF8-59493504-sgcfall \n 
URL:https://simplegospelchurch.com/event/fall-feast-holiday-potluck-free-event/
LOCATION:Lowe Elementary School\, 31502 Conifer Farm Drive\, Hockley\, TX\, 77447\, United States
END:VEVENT
BEGIN:VEVENT
DTSTART;TZID=America/Chicago:20251109T100000
DTEND;TZID=America/Chicago:20251109T120000
DTSTAMP:20260420T034302
CREATED:20250317T190309Z
LAST-MODIFIED:20250526T000336Z
UID:10000310-1762682400-1762689600@simplegospelchurch.com
SUMMARY:Sunday Service
DESCRIPTION:Join us every Sunday to find real relationships that bring forth steadfast life change\, through the love of Christ experienced by everyone! \nService Time: 10AM \nLocation: Lowe Elementary School \nWe look forward to doing life with you!
URL:https://simplegospelchurch.com/event/sunday-service-simple-gospel-church/2025-11-09/
LOCATION:Lowe Elementary School\, 31502 Conifer Farm Drive\, Hockley\, TX\, 77447\, United States
END:VEVENT
BEGIN:VEVENT
DTSTART;TZID=America/Chicago:20251102T100000
DTEND;TZID=America/Chicago:20251102T120000
DTSTAMP:20260420T034302
CREATED:20250317T190309Z
LAST-MODIFIED:20250526T000336Z
UID:10000309-1762077600-1762084800@simplegospelchurch.com
SUMMARY:Sunday Service
DESCRIPTION:Join us every Sunday to find real relationships that bring forth steadfast life change\, through the love of Christ experienced by everyone! \nService Time: 10AM \nLocation: Lowe Elementary School \nWe look forward to doing life with you!
URL:https://simplegospelchurch.com/event/sunday-service-simple-gospel-church/2025-11-02/
LOCATION:Lowe Elementary School\, 31502 Conifer Farm Drive\, Hockley\, TX\, 77447\, United States
END:VEVENT
BEGIN:VEVENT
DTSTART;TZID=America/Chicago:20251028T180000
DTEND;TZID=America/Chicago:20251028T200000
DTSTAMP:20260420T034302
CREATED:20250430T165654Z
LAST-MODIFIED:20250824T023758Z
UID:10000562-1761674400-1761681600@simplegospelchurch.com
SUMMARY:SGC - Basketball Night
DESCRIPTION:Basketball Night! \n 
URL:https://simplegospelchurch.com/event/sgc-basketball-night/2025-10-28/
LOCATION:Lowe Elementary School\, 31502 Conifer Farm Drive\, Hockley\, TX\, 77447\, United States
END:VEVENT
BEGIN:VEVENT
DTSTART;TZID=America/Chicago:20251026T100000
DTEND;TZID=America/Chicago:20251026T120000
DTSTAMP:20260420T034302
CREATED:20250317T190309Z
LAST-MODIFIED:20250526T000336Z
UID:10000308-1761472800-1761480000@simplegospelchurch.com
SUMMARY:Sunday Service
DESCRIPTION:Join us every Sunday to find real relationships that bring forth steadfast life change\, through the love of Christ experienced by everyone! \nService Time: 10AM \nLocation: Lowe Elementary School \nWe look forward to doing life with you!
URL:https://simplegospelchurch.com/event/sunday-service-simple-gospel-church/2025-10-26/
LOCATION:Lowe Elementary School\, 31502 Conifer Farm Drive\, Hockley\, TX\, 77447\, United States
END:VEVENT
BEGIN:VEVENT
DTSTART;TZID=America/Chicago:20251019T100000
DTEND;TZID=America/Chicago:20251019T120000
DTSTAMP:20260420T034302
CREATED:20250317T190309Z
LAST-MODIFIED:20250526T000336Z
UID:10000307-1760868000-1760875200@simplegospelchurch.com
SUMMARY:Sunday Service
DESCRIPTION:Join us every Sunday to find real relationships that bring forth steadfast life change\, through the love of Christ experienced by everyone! \nService Time: 10AM \nLocation: Lowe Elementary School \nWe look forward to doing life with you!
URL:https://simplegospelchurch.com/event/sunday-service-simple-gospel-church/2025-10-19/
LOCATION:Lowe Elementary School\, 31502 Conifer Farm Drive\, Hockley\, TX\, 77447\, United States
END:VEVENT
BEGIN:VEVENT
DTSTART;TZID=America/Chicago:20251014T180000
DTEND;TZID=America/Chicago:20251014T200000
DTSTAMP:20260420T034302
CREATED:20250430T165654Z
LAST-MODIFIED:20250824T023758Z
UID:10000561-1760464800-1760472000@simplegospelchurch.com
SUMMARY:SGC - Basketball Night
DESCRIPTION:Basketball Night! \n 
URL:https://simplegospelchurch.com/event/sgc-basketball-night/2025-10-14/
LOCATION:Lowe Elementary School\, 31502 Conifer Farm Drive\, Hockley\, TX\, 77447\, United States
END:VEVENT
BEGIN:VEVENT
DTSTART;TZID=America/Chicago:20251012T100000
DTEND;TZID=America/Chicago:20251012T120000
DTSTAMP:20260420T034302
CREATED:20250317T190309Z
LAST-MODIFIED:20250526T000336Z
UID:10000306-1760263200-1760270400@simplegospelchurch.com
SUMMARY:Sunday Service
DESCRIPTION:Join us every Sunday to find real relationships that bring forth steadfast life change\, through the love of Christ experienced by everyone! \nService Time: 10AM \nLocation: Lowe Elementary School \nWe look forward to doing life with you!
URL:https://simplegospelchurch.com/event/sunday-service-simple-gospel-church/2025-10-12/
LOCATION:Lowe Elementary School\, 31502 Conifer Farm Drive\, Hockley\, TX\, 77447\, United States
END:VEVENT
BEGIN:VEVENT
DTSTART;TZID=America/Chicago:20251005T100000
DTEND;TZID=America/Chicago:20251005T120000
DTSTAMP:20260420T034302
CREATED:20250317T190309Z
LAST-MODIFIED:20250526T000336Z
UID:10000305-1759658400-1759665600@simplegospelchurch.com
SUMMARY:Sunday Service
DESCRIPTION:Join us every Sunday to find real relationships that bring forth steadfast life change\, through the love of Christ experienced by everyone! \nService Time: 10AM \nLocation: Lowe Elementary School \nWe look forward to doing life with you!
URL:https://simplegospelchurch.com/event/sunday-service-simple-gospel-church/2025-10-05/
LOCATION:Lowe Elementary School\, 31502 Conifer Farm Drive\, Hockley\, TX\, 77447\, United States
END:VEVENT
BEGIN:VEVENT
DTSTART;TZID=America/Chicago:20250930T180000
DTEND;TZID=America/Chicago:20250930T200000
DTSTAMP:20260420T034302
CREATED:20250430T165654Z
LAST-MODIFIED:20250824T023758Z
UID:10000560-1759255200-1759262400@simplegospelchurch.com
SUMMARY:SGC - Basketball Night
DESCRIPTION:Basketball Night! \n 
URL:https://simplegospelchurch.com/event/sgc-basketball-night/2025-09-30/
LOCATION:Lowe Elementary School\, 31502 Conifer Farm Drive\, Hockley\, TX\, 77447\, United States
END:VEVENT
BEGIN:VEVENT
DTSTART;TZID=America/Chicago:20250928T100000
DTEND;TZID=America/Chicago:20250928T120000
DTSTAMP:20260420T034302
CREATED:20250317T190309Z
LAST-MODIFIED:20250526T000336Z
UID:10000304-1759053600-1759060800@simplegospelchurch.com
SUMMARY:Sunday Service
DESCRIPTION:Join us every Sunday to find real relationships that bring forth steadfast life change\, through the love of Christ experienced by everyone! \nService Time: 10AM \nLocation: Lowe Elementary School \nWe look forward to doing life with you!
URL:https://simplegospelchurch.com/event/sunday-service-simple-gospel-church/2025-09-28/
LOCATION:Lowe Elementary School\, 31502 Conifer Farm Drive\, Hockley\, TX\, 77447\, United States
END:VEVENT
BEGIN:VEVENT
DTSTART;TZID=America/Chicago:20250921T100000
DTEND;TZID=America/Chicago:20250921T120000
DTSTAMP:20260420T034302
CREATED:20250317T190309Z
LAST-MODIFIED:20250526T000336Z
UID:10000303-1758448800-1758456000@simplegospelchurch.com
SUMMARY:Sunday Service
DESCRIPTION:Join us every Sunday to find real relationships that bring forth steadfast life change\, through the love of Christ experienced by everyone! \nService Time: 10AM \nLocation: Lowe Elementary School \nWe look forward to doing life with you!
URL:https://simplegospelchurch.com/event/sunday-service-simple-gospel-church/2025-09-21/
LOCATION:Lowe Elementary School\, 31502 Conifer Farm Drive\, Hockley\, TX\, 77447\, United States
END:VEVENT
BEGIN:VEVENT
DTSTART;TZID=America/Chicago:20250916T180000
DTEND;TZID=America/Chicago:20250916T200000
DTSTAMP:20260420T034302
CREATED:20250430T165654Z
LAST-MODIFIED:20250824T023758Z
UID:10000559-1758045600-1758052800@simplegospelchurch.com
SUMMARY:SGC - Basketball Night
DESCRIPTION:Basketball Night! \n 
URL:https://simplegospelchurch.com/event/sgc-basketball-night/2025-09-16/
LOCATION:Lowe Elementary School\, 31502 Conifer Farm Drive\, Hockley\, TX\, 77447\, United States
END:VEVENT
BEGIN:VEVENT
DTSTART;TZID=America/Chicago:20250914T100000
DTEND;TZID=America/Chicago:20250914T120000
DTSTAMP:20260420T034302
CREATED:20250317T190309Z
LAST-MODIFIED:20250526T000336Z
UID:10000302-1757844000-1757851200@simplegospelchurch.com
SUMMARY:Sunday Service
DESCRIPTION:Join us every Sunday to find real relationships that bring forth steadfast life change\, through the love of Christ experienced by everyone! \nService Time: 10AM \nLocation: Lowe Elementary School \nWe look forward to doing life with you!
URL:https://simplegospelchurch.com/event/sunday-service-simple-gospel-church/2025-09-14/
LOCATION:Lowe Elementary School\, 31502 Conifer Farm Drive\, Hockley\, TX\, 77447\, United States
END:VEVENT
BEGIN:VEVENT
DTSTART;TZID=America/Chicago:20250907T100000
DTEND;TZID=America/Chicago:20250907T120000
DTSTAMP:20260420T034302
CREATED:20250317T190309Z
LAST-MODIFIED:20250526T000336Z
UID:10000301-1757239200-1757246400@simplegospelchurch.com
SUMMARY:Sunday Service
DESCRIPTION:Join us every Sunday to find real relationships that bring forth steadfast life change\, through the love of Christ experienced by everyone! \nService Time: 10AM \nLocation: Lowe Elementary School \nWe look forward to doing life with you!
URL:https://simplegospelchurch.com/event/sunday-service-simple-gospel-church/2025-09-07/
LOCATION:Lowe Elementary School\, 31502 Conifer Farm Drive\, Hockley\, TX\, 77447\, United States
END:VEVENT
BEGIN:VEVENT
DTSTART;TZID=America/Chicago:20250902T180000
DTEND;TZID=America/Chicago:20250902T200000
DTSTAMP:20260420T034302
CREATED:20250430T165654Z
LAST-MODIFIED:20250824T023758Z
UID:10000558-1756836000-1756843200@simplegospelchurch.com
SUMMARY:SGC - Basketball Night
DESCRIPTION:Basketball Night! \n 
URL:https://simplegospelchurch.com/event/sgc-basketball-night/2025-09-02/
LOCATION:Lowe Elementary School\, 31502 Conifer Farm Drive\, Hockley\, TX\, 77447\, United States
END:VEVENT
BEGIN:VEVENT
DTSTART;TZID=America/Chicago:20250831T100000
DTEND;TZID=America/Chicago:20250831T120000
DTSTAMP:20260420T034302
CREATED:20250317T190309Z
LAST-MODIFIED:20250526T000336Z
UID:10000300-1756634400-1756641600@simplegospelchurch.com
SUMMARY:Sunday Service
DESCRIPTION:Join us every Sunday to find real relationships that bring forth steadfast life change\, through the love of Christ experienced by everyone! \nService Time: 10AM \nLocation: Lowe Elementary School \nWe look forward to doing life with you!
URL:https://simplegospelchurch.com/event/sunday-service-simple-gospel-church/2025-08-31/
LOCATION:Lowe Elementary School\, 31502 Conifer Farm Drive\, Hockley\, TX\, 77447\, United States
END:VEVENT
BEGIN:VEVENT
DTSTART;TZID=America/Chicago:20250824T100000
DTEND;TZID=America/Chicago:20250824T120000
DTSTAMP:20260420T034302
CREATED:20250317T190309Z
LAST-MODIFIED:20250526T000336Z
UID:10000299-1756029600-1756036800@simplegospelchurch.com
SUMMARY:Sunday Service
DESCRIPTION:Join us every Sunday to find real relationships that bring forth steadfast life change\, through the love of Christ experienced by everyone! \nService Time: 10AM \nLocation: Lowe Elementary School \nWe look forward to doing life with you!
URL:https://simplegospelchurch.com/event/sunday-service-simple-gospel-church/2025-08-24/
LOCATION:Lowe Elementary School\, 31502 Conifer Farm Drive\, Hockley\, TX\, 77447\, United States
END:VEVENT
BEGIN:VEVENT
DTSTART;TZID=America/Chicago:20250819T180000
DTEND;TZID=America/Chicago:20250819T200000
DTSTAMP:20260420T034302
CREATED:20250430T165654Z
LAST-MODIFIED:20250824T023758Z
UID:10000556-1755626400-1755633600@simplegospelchurch.com
SUMMARY:SGC - Basketball Night
DESCRIPTION:Basketball Night! \n 
URL:https://simplegospelchurch.com/event/sgc-basketball-night/2025-08-19/
LOCATION:Lowe Elementary School\, 31502 Conifer Farm Drive\, Hockley\, TX\, 77447\, United States
END:VEVENT
END:VCALENDAR