BEGIN:VCALENDAR
VERSION:2.0
PRODID:-//Simple Gospel Church - ECPv6.15.20//NONSGML v1.0//EN
CALSCALE:GREGORIAN
METHOD:PUBLISH
X-ORIGINAL-URL:https://simplegospelchurch.com
X-WR-CALDESC:Events for Simple Gospel Church
REFRESH-INTERVAL;VALUE=DURATION:PT1H
X-Robots-Tag:noindex
X-PUBLISHED-TTL:PT1H
BEGIN:VTIMEZONE
TZID:America/Chicago
BEGIN:DAYLIGHT
TZOFFSETFROM:-0600
TZOFFSETTO:-0500
TZNAME:CDT
DTSTART:20250309T080000
END:DAYLIGHT
BEGIN:STANDARD
TZOFFSETFROM:-0500
TZOFFSETTO:-0600
TZNAME:CST
DTSTART:20251102T070000
END:STANDARD
BEGIN:DAYLIGHT
TZOFFSETFROM:-0600
TZOFFSETTO:-0500
TZNAME:CDT
DTSTART:20260308T080000
END:DAYLIGHT
BEGIN:STANDARD
TZOFFSETFROM:-0500
TZOFFSETTO:-0600
TZNAME:CST
DTSTART:20261101T070000
END:STANDARD
BEGIN:DAYLIGHT
TZOFFSETFROM:-0600
TZOFFSETTO:-0500
TZNAME:CDT
DTSTART:20270314T080000
END:DAYLIGHT
BEGIN:STANDARD
TZOFFSETFROM:-0500
TZOFFSETTO:-0600
TZNAME:CST
DTSTART:20271107T070000
END:STANDARD
BEGIN:DAYLIGHT
TZOFFSETFROM:-0600
TZOFFSETTO:-0500
TZNAME:CDT
DTSTART:20280312T080000
END:DAYLIGHT
BEGIN:STANDARD
TZOFFSETFROM:-0500
TZOFFSETTO:-0600
TZNAME:CST
DTSTART:20281105T070000
END:STANDARD
END:VTIMEZONE
BEGIN:VEVENT
DTSTART;TZID=America/Chicago:20261011T100000
DTEND;TZID=America/Chicago:20261011T120000
DTSTAMP:20260420T045601
CREATED:20250317T190309Z
LAST-MODIFIED:20250526T000336Z
UID:10000358-1791712800-1791720000@simplegospelchurch.com
SUMMARY:Sunday Service
DESCRIPTION:Join us every Sunday to find real relationships that bring forth steadfast life change\, through the love of Christ experienced by everyone! \nService Time: 10AM \nLocation: Lowe Elementary School \nWe look forward to doing life with you!
URL:https://simplegospelchurch.com/event/sunday-service-simple-gospel-church/2026-10-11/
LOCATION:Lowe Elementary School\, 31502 Conifer Farm Drive\, Hockley\, TX\, 77447\, United States
END:VEVENT
BEGIN:VEVENT
DTSTART;TZID=America/Chicago:20261018T100000
DTEND;TZID=America/Chicago:20261018T120000
DTSTAMP:20260420T045601
CREATED:20250317T190309Z
LAST-MODIFIED:20250526T000336Z
UID:10000359-1792317600-1792324800@simplegospelchurch.com
SUMMARY:Sunday Service
DESCRIPTION:Join us every Sunday to find real relationships that bring forth steadfast life change\, through the love of Christ experienced by everyone! \nService Time: 10AM \nLocation: Lowe Elementary School \nWe look forward to doing life with you!
URL:https://simplegospelchurch.com/event/sunday-service-simple-gospel-church/2026-10-18/
LOCATION:Lowe Elementary School\, 31502 Conifer Farm Drive\, Hockley\, TX\, 77447\, United States
END:VEVENT
BEGIN:VEVENT
DTSTART;TZID=America/Chicago:20261025T100000
DTEND;TZID=America/Chicago:20261025T120000
DTSTAMP:20260420T045601
CREATED:20250317T190309Z
LAST-MODIFIED:20250526T000336Z
UID:10000360-1792922400-1792929600@simplegospelchurch.com
SUMMARY:Sunday Service
DESCRIPTION:Join us every Sunday to find real relationships that bring forth steadfast life change\, through the love of Christ experienced by everyone! \nService Time: 10AM \nLocation: Lowe Elementary School \nWe look forward to doing life with you!
URL:https://simplegospelchurch.com/event/sunday-service-simple-gospel-church/2026-10-25/
LOCATION:Lowe Elementary School\, 31502 Conifer Farm Drive\, Hockley\, TX\, 77447\, United States
END:VEVENT
BEGIN:VEVENT
DTSTART;TZID=America/Chicago:20261101T100000
DTEND;TZID=America/Chicago:20261101T120000
DTSTAMP:20260420T045601
CREATED:20250317T190309Z
LAST-MODIFIED:20250526T000336Z
UID:10000361-1793527200-1793534400@simplegospelchurch.com
SUMMARY:Sunday Service
DESCRIPTION:Join us every Sunday to find real relationships that bring forth steadfast life change\, through the love of Christ experienced by everyone! \nService Time: 10AM \nLocation: Lowe Elementary School \nWe look forward to doing life with you!
URL:https://simplegospelchurch.com/event/sunday-service-simple-gospel-church/2026-11-01/
LOCATION:Lowe Elementary School\, 31502 Conifer Farm Drive\, Hockley\, TX\, 77447\, United States
END:VEVENT
BEGIN:VEVENT
DTSTART;TZID=America/Chicago:20261108T100000
DTEND;TZID=America/Chicago:20261108T120000
DTSTAMP:20260420T045601
CREATED:20250317T190309Z
LAST-MODIFIED:20250526T000336Z
UID:10000362-1794132000-1794139200@simplegospelchurch.com
SUMMARY:Sunday Service
DESCRIPTION:Join us every Sunday to find real relationships that bring forth steadfast life change\, through the love of Christ experienced by everyone! \nService Time: 10AM \nLocation: Lowe Elementary School \nWe look forward to doing life with you!
URL:https://simplegospelchurch.com/event/sunday-service-simple-gospel-church/2026-11-08/
LOCATION:Lowe Elementary School\, 31502 Conifer Farm Drive\, Hockley\, TX\, 77447\, United States
END:VEVENT
BEGIN:VEVENT
DTSTART;TZID=America/Chicago:20261115T100000
DTEND;TZID=America/Chicago:20261115T120000
DTSTAMP:20260420T045601
CREATED:20250317T190309Z
LAST-MODIFIED:20250526T000336Z
UID:10000363-1794736800-1794744000@simplegospelchurch.com
SUMMARY:Sunday Service
DESCRIPTION:Join us every Sunday to find real relationships that bring forth steadfast life change\, through the love of Christ experienced by everyone! \nService Time: 10AM \nLocation: Lowe Elementary School \nWe look forward to doing life with you!
URL:https://simplegospelchurch.com/event/sunday-service-simple-gospel-church/2026-11-15/
LOCATION:Lowe Elementary School\, 31502 Conifer Farm Drive\, Hockley\, TX\, 77447\, United States
END:VEVENT
BEGIN:VEVENT
DTSTART;TZID=America/Chicago:20261122T100000
DTEND;TZID=America/Chicago:20261122T120000
DTSTAMP:20260420T045601
CREATED:20250317T190309Z
LAST-MODIFIED:20250526T000336Z
UID:10000364-1795341600-1795348800@simplegospelchurch.com
SUMMARY:Sunday Service
DESCRIPTION:Join us every Sunday to find real relationships that bring forth steadfast life change\, through the love of Christ experienced by everyone! \nService Time: 10AM \nLocation: Lowe Elementary School \nWe look forward to doing life with you!
URL:https://simplegospelchurch.com/event/sunday-service-simple-gospel-church/2026-11-22/
LOCATION:Lowe Elementary School\, 31502 Conifer Farm Drive\, Hockley\, TX\, 77447\, United States
END:VEVENT
BEGIN:VEVENT
DTSTART;TZID=America/Chicago:20261129T100000
DTEND;TZID=America/Chicago:20261129T120000
DTSTAMP:20260420T045601
CREATED:20250317T190309Z
LAST-MODIFIED:20250526T000336Z
UID:10000365-1795946400-1795953600@simplegospelchurch.com
SUMMARY:Sunday Service
DESCRIPTION:Join us every Sunday to find real relationships that bring forth steadfast life change\, through the love of Christ experienced by everyone! \nService Time: 10AM \nLocation: Lowe Elementary School \nWe look forward to doing life with you!
URL:https://simplegospelchurch.com/event/sunday-service-simple-gospel-church/2026-11-29/
LOCATION:Lowe Elementary School\, 31502 Conifer Farm Drive\, Hockley\, TX\, 77447\, United States
END:VEVENT
BEGIN:VEVENT
DTSTART;TZID=America/Chicago:20261206T100000
DTEND;TZID=America/Chicago:20261206T120000
DTSTAMP:20260420T045601
CREATED:20250317T190309Z
LAST-MODIFIED:20250526T000336Z
UID:10000366-1796551200-1796558400@simplegospelchurch.com
SUMMARY:Sunday Service
DESCRIPTION:Join us every Sunday to find real relationships that bring forth steadfast life change\, through the love of Christ experienced by everyone! \nService Time: 10AM \nLocation: Lowe Elementary School \nWe look forward to doing life with you!
URL:https://simplegospelchurch.com/event/sunday-service-simple-gospel-church/2026-12-06/
LOCATION:Lowe Elementary School\, 31502 Conifer Farm Drive\, Hockley\, TX\, 77447\, United States
END:VEVENT
BEGIN:VEVENT
DTSTART;TZID=America/Chicago:20261213T100000
DTEND;TZID=America/Chicago:20261213T120000
DTSTAMP:20260420T045601
CREATED:20250317T190309Z
LAST-MODIFIED:20250526T000336Z
UID:10000367-1797156000-1797163200@simplegospelchurch.com
SUMMARY:Sunday Service
DESCRIPTION:Join us every Sunday to find real relationships that bring forth steadfast life change\, through the love of Christ experienced by everyone! \nService Time: 10AM \nLocation: Lowe Elementary School \nWe look forward to doing life with you!
URL:https://simplegospelchurch.com/event/sunday-service-simple-gospel-church/2026-12-13/
LOCATION:Lowe Elementary School\, 31502 Conifer Farm Drive\, Hockley\, TX\, 77447\, United States
END:VEVENT
BEGIN:VEVENT
DTSTART;TZID=America/Chicago:20261220T100000
DTEND;TZID=America/Chicago:20261220T120000
DTSTAMP:20260420T045601
CREATED:20250317T190309Z
LAST-MODIFIED:20250526T000336Z
UID:10000368-1797760800-1797768000@simplegospelchurch.com
SUMMARY:Sunday Service
DESCRIPTION:Join us every Sunday to find real relationships that bring forth steadfast life change\, through the love of Christ experienced by everyone! \nService Time: 10AM \nLocation: Lowe Elementary School \nWe look forward to doing life with you!
URL:https://simplegospelchurch.com/event/sunday-service-simple-gospel-church/2026-12-20/
LOCATION:Lowe Elementary School\, 31502 Conifer Farm Drive\, Hockley\, TX\, 77447\, United States
END:VEVENT
BEGIN:VEVENT
DTSTART;TZID=America/Chicago:20261227T100000
DTEND;TZID=America/Chicago:20261227T120000
DTSTAMP:20260420T045601
CREATED:20250317T190309Z
LAST-MODIFIED:20250526T000336Z
UID:10000369-1798365600-1798372800@simplegospelchurch.com
SUMMARY:Sunday Service
DESCRIPTION:Join us every Sunday to find real relationships that bring forth steadfast life change\, through the love of Christ experienced by everyone! \nService Time: 10AM \nLocation: Lowe Elementary School \nWe look forward to doing life with you!
URL:https://simplegospelchurch.com/event/sunday-service-simple-gospel-church/2026-12-27/
LOCATION:Lowe Elementary School\, 31502 Conifer Farm Drive\, Hockley\, TX\, 77447\, United States
END:VEVENT
BEGIN:VEVENT
DTSTART;TZID=America/Chicago:20270103T100000
DTEND;TZID=America/Chicago:20270103T120000
DTSTAMP:20260420T045601
CREATED:20250317T190309Z
LAST-MODIFIED:20250526T000336Z
UID:10000370-1798970400-1798977600@simplegospelchurch.com
SUMMARY:Sunday Service
DESCRIPTION:Join us every Sunday to find real relationships that bring forth steadfast life change\, through the love of Christ experienced by everyone! \nService Time: 10AM \nLocation: Lowe Elementary School \nWe look forward to doing life with you!
URL:https://simplegospelchurch.com/event/sunday-service-simple-gospel-church/2027-01-03/
LOCATION:Lowe Elementary School\, 31502 Conifer Farm Drive\, Hockley\, TX\, 77447\, United States
END:VEVENT
BEGIN:VEVENT
DTSTART;TZID=America/Chicago:20270110T100000
DTEND;TZID=America/Chicago:20270110T120000
DTSTAMP:20260420T045601
CREATED:20250317T190309Z
LAST-MODIFIED:20250526T000336Z
UID:10000371-1799575200-1799582400@simplegospelchurch.com
SUMMARY:Sunday Service
DESCRIPTION:Join us every Sunday to find real relationships that bring forth steadfast life change\, through the love of Christ experienced by everyone! \nService Time: 10AM \nLocation: Lowe Elementary School \nWe look forward to doing life with you!
URL:https://simplegospelchurch.com/event/sunday-service-simple-gospel-church/2027-01-10/
LOCATION:Lowe Elementary School\, 31502 Conifer Farm Drive\, Hockley\, TX\, 77447\, United States
END:VEVENT
BEGIN:VEVENT
DTSTART;TZID=America/Chicago:20270117T100000
DTEND;TZID=America/Chicago:20270117T120000
DTSTAMP:20260420T045601
CREATED:20250317T190309Z
LAST-MODIFIED:20250526T000336Z
UID:10000372-1800180000-1800187200@simplegospelchurch.com
SUMMARY:Sunday Service
DESCRIPTION:Join us every Sunday to find real relationships that bring forth steadfast life change\, through the love of Christ experienced by everyone! \nService Time: 10AM \nLocation: Lowe Elementary School \nWe look forward to doing life with you!
URL:https://simplegospelchurch.com/event/sunday-service-simple-gospel-church/2027-01-17/
LOCATION:Lowe Elementary School\, 31502 Conifer Farm Drive\, Hockley\, TX\, 77447\, United States
END:VEVENT
BEGIN:VEVENT
DTSTART;TZID=America/Chicago:20270124T100000
DTEND;TZID=America/Chicago:20270124T120000
DTSTAMP:20260420T045601
CREATED:20250317T190309Z
LAST-MODIFIED:20250526T000336Z
UID:10000373-1800784800-1800792000@simplegospelchurch.com
SUMMARY:Sunday Service
DESCRIPTION:Join us every Sunday to find real relationships that bring forth steadfast life change\, through the love of Christ experienced by everyone! \nService Time: 10AM \nLocation: Lowe Elementary School \nWe look forward to doing life with you!
URL:https://simplegospelchurch.com/event/sunday-service-simple-gospel-church/2027-01-24/
LOCATION:Lowe Elementary School\, 31502 Conifer Farm Drive\, Hockley\, TX\, 77447\, United States
END:VEVENT
BEGIN:VEVENT
DTSTART;TZID=America/Chicago:20270131T100000
DTEND;TZID=America/Chicago:20270131T120000
DTSTAMP:20260420T045601
CREATED:20250317T190309Z
LAST-MODIFIED:20250526T000336Z
UID:10000374-1801389600-1801396800@simplegospelchurch.com
SUMMARY:Sunday Service
DESCRIPTION:Join us every Sunday to find real relationships that bring forth steadfast life change\, through the love of Christ experienced by everyone! \nService Time: 10AM \nLocation: Lowe Elementary School \nWe look forward to doing life with you!
URL:https://simplegospelchurch.com/event/sunday-service-simple-gospel-church/2027-01-31/
LOCATION:Lowe Elementary School\, 31502 Conifer Farm Drive\, Hockley\, TX\, 77447\, United States
END:VEVENT
BEGIN:VEVENT
DTSTART;TZID=America/Chicago:20270207T100000
DTEND;TZID=America/Chicago:20270207T120000
DTSTAMP:20260420T045601
CREATED:20250317T190309Z
LAST-MODIFIED:20250526T000336Z
UID:10000375-1801994400-1802001600@simplegospelchurch.com
SUMMARY:Sunday Service
DESCRIPTION:Join us every Sunday to find real relationships that bring forth steadfast life change\, through the love of Christ experienced by everyone! \nService Time: 10AM \nLocation: Lowe Elementary School \nWe look forward to doing life with you!
URL:https://simplegospelchurch.com/event/sunday-service-simple-gospel-church/2027-02-07/
LOCATION:Lowe Elementary School\, 31502 Conifer Farm Drive\, Hockley\, TX\, 77447\, United States
END:VEVENT
BEGIN:VEVENT
DTSTART;TZID=America/Chicago:20270214T100000
DTEND;TZID=America/Chicago:20270214T120000
DTSTAMP:20260420T045601
CREATED:20250317T190309Z
LAST-MODIFIED:20250526T000336Z
UID:10000376-1802599200-1802606400@simplegospelchurch.com
SUMMARY:Sunday Service
DESCRIPTION:Join us every Sunday to find real relationships that bring forth steadfast life change\, through the love of Christ experienced by everyone! \nService Time: 10AM \nLocation: Lowe Elementary School \nWe look forward to doing life with you!
URL:https://simplegospelchurch.com/event/sunday-service-simple-gospel-church/2027-02-14/
LOCATION:Lowe Elementary School\, 31502 Conifer Farm Drive\, Hockley\, TX\, 77447\, United States
END:VEVENT
BEGIN:VEVENT
DTSTART;TZID=America/Chicago:20270221T100000
DTEND;TZID=America/Chicago:20270221T120000
DTSTAMP:20260420T045601
CREATED:20250317T190309Z
LAST-MODIFIED:20250526T000336Z
UID:10000377-1803204000-1803211200@simplegospelchurch.com
SUMMARY:Sunday Service
DESCRIPTION:Join us every Sunday to find real relationships that bring forth steadfast life change\, through the love of Christ experienced by everyone! \nService Time: 10AM \nLocation: Lowe Elementary School \nWe look forward to doing life with you!
URL:https://simplegospelchurch.com/event/sunday-service-simple-gospel-church/2027-02-21/
LOCATION:Lowe Elementary School\, 31502 Conifer Farm Drive\, Hockley\, TX\, 77447\, United States
END:VEVENT
BEGIN:VEVENT
DTSTART;TZID=America/Chicago:20270228T100000
DTEND;TZID=America/Chicago:20270228T120000
DTSTAMP:20260420T045601
CREATED:20250317T190309Z
LAST-MODIFIED:20250526T000336Z
UID:10000378-1803808800-1803816000@simplegospelchurch.com
SUMMARY:Sunday Service
DESCRIPTION:Join us every Sunday to find real relationships that bring forth steadfast life change\, through the love of Christ experienced by everyone! \nService Time: 10AM \nLocation: Lowe Elementary School \nWe look forward to doing life with you!
URL:https://simplegospelchurch.com/event/sunday-service-simple-gospel-church/2027-02-28/
LOCATION:Lowe Elementary School\, 31502 Conifer Farm Drive\, Hockley\, TX\, 77447\, United States
END:VEVENT
BEGIN:VEVENT
DTSTART;TZID=America/Chicago:20270307T100000
DTEND;TZID=America/Chicago:20270307T120000
DTSTAMP:20260420T045601
CREATED:20250317T190309Z
LAST-MODIFIED:20250526T000336Z
UID:10000379-1804413600-1804420800@simplegospelchurch.com
SUMMARY:Sunday Service
DESCRIPTION:Join us every Sunday to find real relationships that bring forth steadfast life change\, through the love of Christ experienced by everyone! \nService Time: 10AM \nLocation: Lowe Elementary School \nWe look forward to doing life with you!
URL:https://simplegospelchurch.com/event/sunday-service-simple-gospel-church/2027-03-07/
LOCATION:Lowe Elementary School\, 31502 Conifer Farm Drive\, Hockley\, TX\, 77447\, United States
END:VEVENT
BEGIN:VEVENT
DTSTART;TZID=America/Chicago:20270314T100000
DTEND;TZID=America/Chicago:20270314T120000
DTSTAMP:20260420T045601
CREATED:20250317T190309Z
LAST-MODIFIED:20250526T000336Z
UID:10000380-1805018400-1805025600@simplegospelchurch.com
SUMMARY:Sunday Service
DESCRIPTION:Join us every Sunday to find real relationships that bring forth steadfast life change\, through the love of Christ experienced by everyone! \nService Time: 10AM \nLocation: Lowe Elementary School \nWe look forward to doing life with you!
URL:https://simplegospelchurch.com/event/sunday-service-simple-gospel-church/2027-03-14/
LOCATION:Lowe Elementary School\, 31502 Conifer Farm Drive\, Hockley\, TX\, 77447\, United States
END:VEVENT
BEGIN:VEVENT
DTSTART;TZID=America/Chicago:20270321T100000
DTEND;TZID=America/Chicago:20270321T120000
DTSTAMP:20260420T045601
CREATED:20250317T190309Z
LAST-MODIFIED:20250526T000336Z
UID:10000381-1805623200-1805630400@simplegospelchurch.com
SUMMARY:Sunday Service
DESCRIPTION:Join us every Sunday to find real relationships that bring forth steadfast life change\, through the love of Christ experienced by everyone! \nService Time: 10AM \nLocation: Lowe Elementary School \nWe look forward to doing life with you!
URL:https://simplegospelchurch.com/event/sunday-service-simple-gospel-church/2027-03-21/
LOCATION:Lowe Elementary School\, 31502 Conifer Farm Drive\, Hockley\, TX\, 77447\, United States
END:VEVENT
BEGIN:VEVENT
DTSTART;TZID=America/Chicago:20270328T100000
DTEND;TZID=America/Chicago:20270328T120000
DTSTAMP:20260420T045601
CREATED:20250317T190309Z
LAST-MODIFIED:20250526T000336Z
UID:10000382-1806228000-1806235200@simplegospelchurch.com
SUMMARY:Sunday Service
DESCRIPTION:Join us every Sunday to find real relationships that bring forth steadfast life change\, through the love of Christ experienced by everyone! \nService Time: 10AM \nLocation: Lowe Elementary School \nWe look forward to doing life with you!
URL:https://simplegospelchurch.com/event/sunday-service-simple-gospel-church/2027-03-28/
LOCATION:Lowe Elementary School\, 31502 Conifer Farm Drive\, Hockley\, TX\, 77447\, United States
END:VEVENT
BEGIN:VEVENT
DTSTART;TZID=America/Chicago:20270404T100000
DTEND;TZID=America/Chicago:20270404T120000
DTSTAMP:20260420T045601
CREATED:20250317T190309Z
LAST-MODIFIED:20250526T000336Z
UID:10000383-1806832800-1806840000@simplegospelchurch.com
SUMMARY:Sunday Service
DESCRIPTION:Join us every Sunday to find real relationships that bring forth steadfast life change\, through the love of Christ experienced by everyone! \nService Time: 10AM \nLocation: Lowe Elementary School \nWe look forward to doing life with you!
URL:https://simplegospelchurch.com/event/sunday-service-simple-gospel-church/2027-04-04/
LOCATION:Lowe Elementary School\, 31502 Conifer Farm Drive\, Hockley\, TX\, 77447\, United States
END:VEVENT
BEGIN:VEVENT
DTSTART;TZID=America/Chicago:20270411T100000
DTEND;TZID=America/Chicago:20270411T120000
DTSTAMP:20260420T045601
CREATED:20250317T190309Z
LAST-MODIFIED:20250526T000336Z
UID:10000384-1807437600-1807444800@simplegospelchurch.com
SUMMARY:Sunday Service
DESCRIPTION:Join us every Sunday to find real relationships that bring forth steadfast life change\, through the love of Christ experienced by everyone! \nService Time: 10AM \nLocation: Lowe Elementary School \nWe look forward to doing life with you!
URL:https://simplegospelchurch.com/event/sunday-service-simple-gospel-church/2027-04-11/
LOCATION:Lowe Elementary School\, 31502 Conifer Farm Drive\, Hockley\, TX\, 77447\, United States
END:VEVENT
BEGIN:VEVENT
DTSTART;TZID=America/Chicago:20270418T100000
DTEND;TZID=America/Chicago:20270418T120000
DTSTAMP:20260420T045601
CREATED:20250317T190309Z
LAST-MODIFIED:20250526T000336Z
UID:10000385-1808042400-1808049600@simplegospelchurch.com
SUMMARY:Sunday Service
DESCRIPTION:Join us every Sunday to find real relationships that bring forth steadfast life change\, through the love of Christ experienced by everyone! \nService Time: 10AM \nLocation: Lowe Elementary School \nWe look forward to doing life with you!
URL:https://simplegospelchurch.com/event/sunday-service-simple-gospel-church/2027-04-18/
LOCATION:Lowe Elementary School\, 31502 Conifer Farm Drive\, Hockley\, TX\, 77447\, United States
END:VEVENT
BEGIN:VEVENT
DTSTART;TZID=America/Chicago:20270425T100000
DTEND;TZID=America/Chicago:20270425T120000
DTSTAMP:20260420T045601
CREATED:20250317T190309Z
LAST-MODIFIED:20250526T000336Z
UID:10000386-1808647200-1808654400@simplegospelchurch.com
SUMMARY:Sunday Service
DESCRIPTION:Join us every Sunday to find real relationships that bring forth steadfast life change\, through the love of Christ experienced by everyone! \nService Time: 10AM \nLocation: Lowe Elementary School \nWe look forward to doing life with you!
URL:https://simplegospelchurch.com/event/sunday-service-simple-gospel-church/2027-04-25/
LOCATION:Lowe Elementary School\, 31502 Conifer Farm Drive\, Hockley\, TX\, 77447\, United States
END:VEVENT
BEGIN:VEVENT
DTSTART;TZID=America/Chicago:20270502T100000
DTEND;TZID=America/Chicago:20270502T120000
DTSTAMP:20260420T045601
CREATED:20250317T190309Z
LAST-MODIFIED:20250526T000336Z
UID:10000387-1809252000-1809259200@simplegospelchurch.com
SUMMARY:Sunday Service
DESCRIPTION:Join us every Sunday to find real relationships that bring forth steadfast life change\, through the love of Christ experienced by everyone! \nService Time: 10AM \nLocation: Lowe Elementary School \nWe look forward to doing life with you!
URL:https://simplegospelchurch.com/event/sunday-service-simple-gospel-church/2027-05-02/
LOCATION:Lowe Elementary School\, 31502 Conifer Farm Drive\, Hockley\, TX\, 77447\, United States
END:VEVENT
END:VCALENDAR