BEGIN:VCALENDAR
VERSION:2.0
PRODID:-//Simple Gospel Church - ECPv6.15.20//NONSGML v1.0//EN
CALSCALE:GREGORIAN
METHOD:PUBLISH
X-WR-CALNAME:Simple Gospel Church
X-ORIGINAL-URL:https://simplegospelchurch.com
X-WR-CALDESC:Events for Simple Gospel Church
REFRESH-INTERVAL;VALUE=DURATION:PT1H
X-Robots-Tag:noindex
X-PUBLISHED-TTL:PT1H
BEGIN:VTIMEZONE
TZID:America/Chicago
BEGIN:DAYLIGHT
TZOFFSETFROM:-0600
TZOFFSETTO:-0500
TZNAME:CDT
DTSTART:20240310T080000
END:DAYLIGHT
BEGIN:STANDARD
TZOFFSETFROM:-0500
TZOFFSETTO:-0600
TZNAME:CST
DTSTART:20241103T070000
END:STANDARD
BEGIN:DAYLIGHT
TZOFFSETFROM:-0600
TZOFFSETTO:-0500
TZNAME:CDT
DTSTART:20250309T080000
END:DAYLIGHT
BEGIN:STANDARD
TZOFFSETFROM:-0500
TZOFFSETTO:-0600
TZNAME:CST
DTSTART:20251102T070000
END:STANDARD
BEGIN:DAYLIGHT
TZOFFSETFROM:-0600
TZOFFSETTO:-0500
TZNAME:CDT
DTSTART:20260308T080000
END:DAYLIGHT
BEGIN:STANDARD
TZOFFSETFROM:-0500
TZOFFSETTO:-0600
TZNAME:CST
DTSTART:20261101T070000
END:STANDARD
END:VTIMEZONE
BEGIN:VEVENT
DTSTART;TZID=America/Chicago:20250914T100000
DTEND;TZID=America/Chicago:20250914T120000
DTSTAMP:20260420T063952
CREATED:20250317T190309Z
LAST-MODIFIED:20250526T000336Z
UID:10000302-1757844000-1757851200@simplegospelchurch.com
SUMMARY:Sunday Service
DESCRIPTION:Join us every Sunday to find real relationships that bring forth steadfast life change\, through the love of Christ experienced by everyone! \nService Time: 10AM \nLocation: Lowe Elementary School \nWe look forward to doing life with you!
URL:https://simplegospelchurch.com/event/sunday-service-simple-gospel-church/2025-09-14/
LOCATION:Lowe Elementary School\, 31502 Conifer Farm Drive\, Hockley\, TX\, 77447\, United States
END:VEVENT
BEGIN:VEVENT
DTSTART;TZID=America/Chicago:20250907T100000
DTEND;TZID=America/Chicago:20250907T120000
DTSTAMP:20260420T063952
CREATED:20250317T190309Z
LAST-MODIFIED:20250526T000336Z
UID:10000301-1757239200-1757246400@simplegospelchurch.com
SUMMARY:Sunday Service
DESCRIPTION:Join us every Sunday to find real relationships that bring forth steadfast life change\, through the love of Christ experienced by everyone! \nService Time: 10AM \nLocation: Lowe Elementary School \nWe look forward to doing life with you!
URL:https://simplegospelchurch.com/event/sunday-service-simple-gospel-church/2025-09-07/
LOCATION:Lowe Elementary School\, 31502 Conifer Farm Drive\, Hockley\, TX\, 77447\, United States
END:VEVENT
BEGIN:VEVENT
DTSTART;TZID=America/Chicago:20250902T180000
DTEND;TZID=America/Chicago:20250902T200000
DTSTAMP:20260420T063952
CREATED:20250430T165654Z
LAST-MODIFIED:20250824T023758Z
UID:10000558-1756836000-1756843200@simplegospelchurch.com
SUMMARY:SGC - Basketball Night
DESCRIPTION:Basketball Night! \n 
URL:https://simplegospelchurch.com/event/sgc-basketball-night/2025-09-02/
LOCATION:Lowe Elementary School\, 31502 Conifer Farm Drive\, Hockley\, TX\, 77447\, United States
END:VEVENT
BEGIN:VEVENT
DTSTART;TZID=America/Chicago:20250831T100000
DTEND;TZID=America/Chicago:20250831T120000
DTSTAMP:20260420T063952
CREATED:20250317T190309Z
LAST-MODIFIED:20250526T000336Z
UID:10000300-1756634400-1756641600@simplegospelchurch.com
SUMMARY:Sunday Service
DESCRIPTION:Join us every Sunday to find real relationships that bring forth steadfast life change\, through the love of Christ experienced by everyone! \nService Time: 10AM \nLocation: Lowe Elementary School \nWe look forward to doing life with you!
URL:https://simplegospelchurch.com/event/sunday-service-simple-gospel-church/2025-08-31/
LOCATION:Lowe Elementary School\, 31502 Conifer Farm Drive\, Hockley\, TX\, 77447\, United States
END:VEVENT
BEGIN:VEVENT
DTSTART;TZID=America/Chicago:20250824T100000
DTEND;TZID=America/Chicago:20250824T120000
DTSTAMP:20260420T063952
CREATED:20250317T190309Z
LAST-MODIFIED:20250526T000336Z
UID:10000299-1756029600-1756036800@simplegospelchurch.com
SUMMARY:Sunday Service
DESCRIPTION:Join us every Sunday to find real relationships that bring forth steadfast life change\, through the love of Christ experienced by everyone! \nService Time: 10AM \nLocation: Lowe Elementary School \nWe look forward to doing life with you!
URL:https://simplegospelchurch.com/event/sunday-service-simple-gospel-church/2025-08-24/
LOCATION:Lowe Elementary School\, 31502 Conifer Farm Drive\, Hockley\, TX\, 77447\, United States
END:VEVENT
BEGIN:VEVENT
DTSTART;TZID=America/Chicago:20250819T180000
DTEND;TZID=America/Chicago:20250819T200000
DTSTAMP:20260420T063952
CREATED:20250430T165654Z
LAST-MODIFIED:20250824T023758Z
UID:10000556-1755626400-1755633600@simplegospelchurch.com
SUMMARY:SGC - Basketball Night
DESCRIPTION:Basketball Night! \n 
URL:https://simplegospelchurch.com/event/sgc-basketball-night/2025-08-19/
LOCATION:Lowe Elementary School\, 31502 Conifer Farm Drive\, Hockley\, TX\, 77447\, United States
END:VEVENT
BEGIN:VEVENT
DTSTART;TZID=America/Chicago:20250817T100000
DTEND;TZID=America/Chicago:20250817T120000
DTSTAMP:20260420T063952
CREATED:20250317T190309Z
LAST-MODIFIED:20250526T000336Z
UID:10000298-1755424800-1755432000@simplegospelchurch.com
SUMMARY:Sunday Service
DESCRIPTION:Join us every Sunday to find real relationships that bring forth steadfast life change\, through the love of Christ experienced by everyone! \nService Time: 10AM \nLocation: Lowe Elementary School \nWe look forward to doing life with you!
URL:https://simplegospelchurch.com/event/sunday-service-simple-gospel-church/2025-08-17/
LOCATION:Lowe Elementary School\, 31502 Conifer Farm Drive\, Hockley\, TX\, 77447\, United States
END:VEVENT
BEGIN:VEVENT
DTSTART;TZID=America/Chicago:20250810T100000
DTEND;TZID=America/Chicago:20250810T120000
DTSTAMP:20260420T063952
CREATED:20250317T190309Z
LAST-MODIFIED:20250526T000336Z
UID:10000297-1754820000-1754827200@simplegospelchurch.com
SUMMARY:Sunday Service
DESCRIPTION:Join us every Sunday to find real relationships that bring forth steadfast life change\, through the love of Christ experienced by everyone! \nService Time: 10AM \nLocation: Lowe Elementary School \nWe look forward to doing life with you!
URL:https://simplegospelchurch.com/event/sunday-service-simple-gospel-church/2025-08-10/
LOCATION:Lowe Elementary School\, 31502 Conifer Farm Drive\, Hockley\, TX\, 77447\, United States
END:VEVENT
BEGIN:VEVENT
DTSTART;TZID=America/Chicago:20250805T180000
DTEND;TZID=America/Chicago:20250805T200000
DTSTAMP:20260420T063952
CREATED:20250430T165654Z
LAST-MODIFIED:20250824T023758Z
UID:10000555-1754416800-1754424000@simplegospelchurch.com
SUMMARY:SGC - Basketball Night
DESCRIPTION:Basketball Night! \n 
URL:https://simplegospelchurch.com/event/sgc-basketball-night/2025-08-05/
LOCATION:Lowe Elementary School\, 31502 Conifer Farm Drive\, Hockley\, TX\, 77447\, United States
END:VEVENT
BEGIN:VEVENT
DTSTART;TZID=America/Chicago:20250803T100000
DTEND;TZID=America/Chicago:20250803T120000
DTSTAMP:20260420T063952
CREATED:20250317T190309Z
LAST-MODIFIED:20250526T000336Z
UID:10000296-1754215200-1754222400@simplegospelchurch.com
SUMMARY:Sunday Service
DESCRIPTION:Join us every Sunday to find real relationships that bring forth steadfast life change\, through the love of Christ experienced by everyone! \nService Time: 10AM \nLocation: Lowe Elementary School \nWe look forward to doing life with you!
URL:https://simplegospelchurch.com/event/sunday-service-simple-gospel-church/2025-08-03/
LOCATION:Lowe Elementary School\, 31502 Conifer Farm Drive\, Hockley\, TX\, 77447\, United States
END:VEVENT
BEGIN:VEVENT
DTSTART;TZID=America/Chicago:20250727T100000
DTEND;TZID=America/Chicago:20250727T120000
DTSTAMP:20260420T063952
CREATED:20250317T190309Z
LAST-MODIFIED:20250526T000336Z
UID:10000295-1753610400-1753617600@simplegospelchurch.com
SUMMARY:Sunday Service
DESCRIPTION:Join us every Sunday to find real relationships that bring forth steadfast life change\, through the love of Christ experienced by everyone! \nService Time: 10AM \nLocation: Lowe Elementary School \nWe look forward to doing life with you!
URL:https://simplegospelchurch.com/event/sunday-service-simple-gospel-church/2025-07-27/
LOCATION:Lowe Elementary School\, 31502 Conifer Farm Drive\, Hockley\, TX\, 77447\, United States
END:VEVENT
BEGIN:VEVENT
DTSTART;TZID=America/Chicago:20250722T180000
DTEND;TZID=America/Chicago:20250722T200000
DTSTAMP:20260420T063952
CREATED:20250430T165654Z
LAST-MODIFIED:20250824T023758Z
UID:10000554-1753207200-1753214400@simplegospelchurch.com
SUMMARY:SGC - Basketball Night
DESCRIPTION:Basketball Night! \n 
URL:https://simplegospelchurch.com/event/sgc-basketball-night/2025-07-22/
LOCATION:Lowe Elementary School\, 31502 Conifer Farm Drive\, Hockley\, TX\, 77447\, United States
END:VEVENT
BEGIN:VEVENT
DTSTART;TZID=America/Chicago:20250720T100000
DTEND;TZID=America/Chicago:20250720T120000
DTSTAMP:20260420T063952
CREATED:20250317T190309Z
LAST-MODIFIED:20250526T000336Z
UID:10000294-1753005600-1753012800@simplegospelchurch.com
SUMMARY:Sunday Service
DESCRIPTION:Join us every Sunday to find real relationships that bring forth steadfast life change\, through the love of Christ experienced by everyone! \nService Time: 10AM \nLocation: Lowe Elementary School \nWe look forward to doing life with you!
URL:https://simplegospelchurch.com/event/sunday-service-simple-gospel-church/2025-07-20/
LOCATION:Lowe Elementary School\, 31502 Conifer Farm Drive\, Hockley\, TX\, 77447\, United States
END:VEVENT
BEGIN:VEVENT
DTSTART;TZID=America/Chicago:20250713T100000
DTEND;TZID=America/Chicago:20250713T120000
DTSTAMP:20260420T063952
CREATED:20250317T190309Z
LAST-MODIFIED:20250526T000336Z
UID:10000293-1752400800-1752408000@simplegospelchurch.com
SUMMARY:Sunday Service
DESCRIPTION:Join us every Sunday to find real relationships that bring forth steadfast life change\, through the love of Christ experienced by everyone! \nService Time: 10AM \nLocation: Lowe Elementary School \nWe look forward to doing life with you!
URL:https://simplegospelchurch.com/event/sunday-service-simple-gospel-church/2025-07-13/
LOCATION:Lowe Elementary School\, 31502 Conifer Farm Drive\, Hockley\, TX\, 77447\, United States
END:VEVENT
BEGIN:VEVENT
DTSTART;TZID=America/Chicago:20250708T180000
DTEND;TZID=America/Chicago:20250708T200000
DTSTAMP:20260420T063952
CREATED:20250430T165654Z
LAST-MODIFIED:20250824T023758Z
UID:10000553-1751997600-1752004800@simplegospelchurch.com
SUMMARY:SGC - Basketball Night
DESCRIPTION:Basketball Night! \n 
URL:https://simplegospelchurch.com/event/sgc-basketball-night/2025-07-08/
LOCATION:Lowe Elementary School\, 31502 Conifer Farm Drive\, Hockley\, TX\, 77447\, United States
END:VEVENT
BEGIN:VEVENT
DTSTART;TZID=America/Chicago:20250706T100000
DTEND;TZID=America/Chicago:20250706T120000
DTSTAMP:20260420T063952
CREATED:20250317T190309Z
LAST-MODIFIED:20250526T000336Z
UID:10000292-1751796000-1751803200@simplegospelchurch.com
SUMMARY:Sunday Service
DESCRIPTION:Join us every Sunday to find real relationships that bring forth steadfast life change\, through the love of Christ experienced by everyone! \nService Time: 10AM \nLocation: Lowe Elementary School \nWe look forward to doing life with you!
URL:https://simplegospelchurch.com/event/sunday-service-simple-gospel-church/2025-07-06/
LOCATION:Lowe Elementary School\, 31502 Conifer Farm Drive\, Hockley\, TX\, 77447\, United States
END:VEVENT
BEGIN:VEVENT
DTSTART;TZID=America/Chicago:20250629T100000
DTEND;TZID=America/Chicago:20250629T120000
DTSTAMP:20260420T063952
CREATED:20250317T190309Z
LAST-MODIFIED:20250526T000336Z
UID:10000291-1751191200-1751198400@simplegospelchurch.com
SUMMARY:Sunday Service
DESCRIPTION:Join us every Sunday to find real relationships that bring forth steadfast life change\, through the love of Christ experienced by everyone! \nService Time: 10AM \nLocation: Lowe Elementary School \nWe look forward to doing life with you!
URL:https://simplegospelchurch.com/event/sunday-service-simple-gospel-church/2025-06-29/
LOCATION:Lowe Elementary School\, 31502 Conifer Farm Drive\, Hockley\, TX\, 77447\, United States
END:VEVENT
BEGIN:VEVENT
DTSTART;TZID=America/Chicago:20250622T100000
DTEND;TZID=America/Chicago:20250622T120000
DTSTAMP:20260420T063952
CREATED:20250317T190309Z
LAST-MODIFIED:20250526T000336Z
UID:10000290-1750586400-1750593600@simplegospelchurch.com
SUMMARY:Sunday Service
DESCRIPTION:Join us every Sunday to find real relationships that bring forth steadfast life change\, through the love of Christ experienced by everyone! \nService Time: 10AM \nLocation: Lowe Elementary School \nWe look forward to doing life with you!
URL:https://simplegospelchurch.com/event/sunday-service-simple-gospel-church/2025-06-22/
LOCATION:Lowe Elementary School\, 31502 Conifer Farm Drive\, Hockley\, TX\, 77447\, United States
END:VEVENT
BEGIN:VEVENT
DTSTART;TZID=America/Chicago:20250621T083000
DTEND;TZID=America/Chicago:20250621T120000
DTSTAMP:20260420T063952
CREATED:20250514T131305Z
LAST-MODIFIED:20250514T131305Z
UID:10000542-1750494600-1750507200@simplegospelchurch.com
SUMMARY:VBS - MAGNIFIED
DESCRIPTION:Vacation Bible School – MAGNIFIED (Pre-K – 5th Grade) \nDate: June 19th – 21st from 8:30AM-12PM \nLocation: Lowe Elementary School – 31502 Conifer Farm Drive. Hockley\, TX 77447 \nCost: $10 \nTo Sign Up: https://forms.gle/CMUbrZuQCCNftDrq8 \n**NOTE: Must Be Potty Trained** \n 
URL:https://simplegospelchurch.com/event/vbs-magnified/2025-06-21/
LOCATION:Lowe Elementary School\, 31502 Conifer Farm Drive\, Hockley\, TX\, 77447\, United States
END:VEVENT
BEGIN:VEVENT
DTSTART;TZID=America/Chicago:20250620T083000
DTEND;TZID=America/Chicago:20250620T120000
DTSTAMP:20260420T063952
CREATED:20250514T131305Z
LAST-MODIFIED:20250514T131305Z
UID:10000541-1750408200-1750420800@simplegospelchurch.com
SUMMARY:VBS - MAGNIFIED
DESCRIPTION:Vacation Bible School – MAGNIFIED (Pre-K – 5th Grade) \nDate: June 19th – 21st from 8:30AM-12PM \nLocation: Lowe Elementary School – 31502 Conifer Farm Drive. Hockley\, TX 77447 \nCost: $10 \nTo Sign Up: https://forms.gle/CMUbrZuQCCNftDrq8 \n**NOTE: Must Be Potty Trained** \n 
URL:https://simplegospelchurch.com/event/vbs-magnified/2025-06-20/
LOCATION:Lowe Elementary School\, 31502 Conifer Farm Drive\, Hockley\, TX\, 77447\, United States
END:VEVENT
BEGIN:VEVENT
DTSTART;TZID=America/Chicago:20250619T083000
DTEND;TZID=America/Chicago:20250621T120000
DTSTAMP:20260420T063952
CREATED:20250514T131305Z
LAST-MODIFIED:20250514T131305Z
UID:10000540-1750321800-1750507200@simplegospelchurch.com
SUMMARY:VBS - MAGNIFIED
DESCRIPTION:Vacation Bible School – MAGNIFIED (Pre-K – 5th Grade) \nDate: June 19th – 21st from 8:30AM-12PM \nLocation: Lowe Elementary School – 31502 Conifer Farm Drive. Hockley\, TX 77447 \nCost: $10 \nTo Sign Up: https://forms.gle/CMUbrZuQCCNftDrq8 \n**NOTE: Must Be Potty Trained** \n 
URL:https://simplegospelchurch.com/event/vbs-magnified/2025-06-19/
LOCATION:Lowe Elementary School\, 31502 Conifer Farm Drive\, Hockley\, TX\, 77447\, United States
END:VEVENT
BEGIN:VEVENT
DTSTART;TZID=America/Chicago:20250615T100000
DTEND;TZID=America/Chicago:20250615T120000
DTSTAMP:20260420T063952
CREATED:20250317T190309Z
LAST-MODIFIED:20250526T000336Z
UID:10000289-1749981600-1749988800@simplegospelchurch.com
SUMMARY:Sunday Service
DESCRIPTION:Join us every Sunday to find real relationships that bring forth steadfast life change\, through the love of Christ experienced by everyone! \nService Time: 10AM \nLocation: Lowe Elementary School \nWe look forward to doing life with you!
URL:https://simplegospelchurch.com/event/sunday-service-simple-gospel-church/2025-06-15/
LOCATION:Lowe Elementary School\, 31502 Conifer Farm Drive\, Hockley\, TX\, 77447\, United States
END:VEVENT
BEGIN:VEVENT
DTSTART;TZID=America/Chicago:20250608T100000
DTEND;TZID=America/Chicago:20250608T120000
DTSTAMP:20260420T063952
CREATED:20250317T190309Z
LAST-MODIFIED:20250526T000336Z
UID:10000288-1749376800-1749384000@simplegospelchurch.com
SUMMARY:Sunday Service
DESCRIPTION:Join us every Sunday to find real relationships that bring forth steadfast life change\, through the love of Christ experienced by everyone! \nService Time: 10AM \nLocation: Lowe Elementary School \nWe look forward to doing life with you!
URL:https://simplegospelchurch.com/event/sunday-service-simple-gospel-church/2025-06-08/
LOCATION:Lowe Elementary School\, 31502 Conifer Farm Drive\, Hockley\, TX\, 77447\, United States
END:VEVENT
BEGIN:VEVENT
DTSTART;TZID=America/Chicago:20250601T100000
DTEND;TZID=America/Chicago:20250601T120000
DTSTAMP:20260420T063952
CREATED:20250317T190309Z
LAST-MODIFIED:20250526T000336Z
UID:10000287-1748772000-1748779200@simplegospelchurch.com
SUMMARY:Sunday Service
DESCRIPTION:Join us every Sunday to find real relationships that bring forth steadfast life change\, through the love of Christ experienced by everyone! \nService Time: 10AM \nLocation: Lowe Elementary School \nWe look forward to doing life with you!
URL:https://simplegospelchurch.com/event/sunday-service-simple-gospel-church/2025-06-01/
LOCATION:Lowe Elementary School\, 31502 Conifer Farm Drive\, Hockley\, TX\, 77447\, United States
END:VEVENT
BEGIN:VEVENT
DTSTART;TZID=America/Chicago:20250525T100000
DTEND;TZID=America/Chicago:20250525T120000
DTSTAMP:20260420T063952
CREATED:20250317T190309Z
LAST-MODIFIED:20250526T000336Z
UID:10000286-1748167200-1748174400@simplegospelchurch.com
SUMMARY:Sunday Service
DESCRIPTION:Join us every Sunday to find real relationships that bring forth steadfast life change\, through the love of Christ experienced by everyone! \nService Time: 10AM \nLocation: Lowe Elementary School \nWe look forward to doing life with you!
URL:https://simplegospelchurch.com/event/sunday-service-simple-gospel-church/2025-05-25/
LOCATION:Lowe Elementary School\, 31502 Conifer Farm Drive\, Hockley\, TX\, 77447\, United States
END:VEVENT
BEGIN:VEVENT
DTSTART;TZID=America/Chicago:20250518T100000
DTEND;TZID=America/Chicago:20250518T120000
DTSTAMP:20260420T063953
CREATED:20250317T190309Z
LAST-MODIFIED:20250526T000336Z
UID:10000285-1747562400-1747569600@simplegospelchurch.com
SUMMARY:Sunday Service
DESCRIPTION:Join us every Sunday to find real relationships that bring forth steadfast life change\, through the love of Christ experienced by everyone! \nService Time: 10AM \nLocation: Lowe Elementary School \nWe look forward to doing life with you!
URL:https://simplegospelchurch.com/event/sunday-service-simple-gospel-church/2025-05-18/
LOCATION:Lowe Elementary School\, 31502 Conifer Farm Drive\, Hockley\, TX\, 77447\, United States
END:VEVENT
BEGIN:VEVENT
DTSTART;TZID=America/Chicago:20250511T100000
DTEND;TZID=America/Chicago:20250511T120000
DTSTAMP:20260420T063953
CREATED:20250317T190309Z
LAST-MODIFIED:20250526T000336Z
UID:10000284-1746957600-1746964800@simplegospelchurch.com
SUMMARY:Sunday Service
DESCRIPTION:Join us every Sunday to find real relationships that bring forth steadfast life change\, through the love of Christ experienced by everyone! \nService Time: 10AM \nLocation: Lowe Elementary School \nWe look forward to doing life with you!
URL:https://simplegospelchurch.com/event/sunday-service-simple-gospel-church/2025-05-11/
LOCATION:Lowe Elementary School\, 31502 Conifer Farm Drive\, Hockley\, TX\, 77447\, United States
END:VEVENT
BEGIN:VEVENT
DTSTART;TZID=America/Chicago:20250504T100000
DTEND;TZID=America/Chicago:20250504T120000
DTSTAMP:20260420T063953
CREATED:20250317T190309Z
LAST-MODIFIED:20250526T000336Z
UID:10000283-1746352800-1746360000@simplegospelchurch.com
SUMMARY:Sunday Service
DESCRIPTION:Join us every Sunday to find real relationships that bring forth steadfast life change\, through the love of Christ experienced by everyone! \nService Time: 10AM \nLocation: Lowe Elementary School \nWe look forward to doing life with you!
URL:https://simplegospelchurch.com/event/sunday-service-simple-gospel-church/2025-05-04/
LOCATION:Lowe Elementary School\, 31502 Conifer Farm Drive\, Hockley\, TX\, 77447\, United States
END:VEVENT
BEGIN:VEVENT
DTSTART;TZID=America/Chicago:20250427T100000
DTEND;TZID=America/Chicago:20250427T120000
DTSTAMP:20260420T063953
CREATED:20250317T190309Z
LAST-MODIFIED:20250526T000336Z
UID:10000282-1745748000-1745755200@simplegospelchurch.com
SUMMARY:Sunday Service
DESCRIPTION:Join us every Sunday to find real relationships that bring forth steadfast life change\, through the love of Christ experienced by everyone! \nService Time: 10AM \nLocation: Lowe Elementary School \nWe look forward to doing life with you!
URL:https://simplegospelchurch.com/event/sunday-service-simple-gospel-church/2025-04-27/
LOCATION:Lowe Elementary School\, 31502 Conifer Farm Drive\, Hockley\, TX\, 77447\, United States
END:VEVENT
BEGIN:VEVENT
DTSTART;TZID=America/Chicago:20250420T100000
DTEND;TZID=America/Chicago:20250420T120000
DTSTAMP:20260420T063953
CREATED:20250317T190309Z
LAST-MODIFIED:20250526T000336Z
UID:10000281-1745143200-1745150400@simplegospelchurch.com
SUMMARY:Sunday Service
DESCRIPTION:Join us every Sunday to find real relationships that bring forth steadfast life change\, through the love of Christ experienced by everyone! \nService Time: 10AM \nLocation: Lowe Elementary School \nWe look forward to doing life with you!
URL:https://simplegospelchurch.com/event/sunday-service-simple-gospel-church/2025-04-20/
LOCATION:Lowe Elementary School\, 31502 Conifer Farm Drive\, Hockley\, TX\, 77447\, United States
END:VEVENT
END:VCALENDAR