BEGIN:VCALENDAR
VERSION:2.0
PRODID:-//Simple Gospel Church - ECPv6.15.20//NONSGML v1.0//EN
CALSCALE:GREGORIAN
METHOD:PUBLISH
X-ORIGINAL-URL:https://simplegospelchurch.com
X-WR-CALDESC:Events for Simple Gospel Church
REFRESH-INTERVAL;VALUE=DURATION:PT1H
X-Robots-Tag:noindex
X-PUBLISHED-TTL:PT1H
BEGIN:VTIMEZONE
TZID:America/Chicago
BEGIN:DAYLIGHT
TZOFFSETFROM:-0600
TZOFFSETTO:-0500
TZNAME:CDT
DTSTART:20240310T080000
END:DAYLIGHT
BEGIN:STANDARD
TZOFFSETFROM:-0500
TZOFFSETTO:-0600
TZNAME:CST
DTSTART:20241103T070000
END:STANDARD
BEGIN:DAYLIGHT
TZOFFSETFROM:-0600
TZOFFSETTO:-0500
TZNAME:CDT
DTSTART:20250309T080000
END:DAYLIGHT
BEGIN:STANDARD
TZOFFSETFROM:-0500
TZOFFSETTO:-0600
TZNAME:CST
DTSTART:20251102T070000
END:STANDARD
BEGIN:DAYLIGHT
TZOFFSETFROM:-0600
TZOFFSETTO:-0500
TZNAME:CDT
DTSTART:20260308T080000
END:DAYLIGHT
BEGIN:STANDARD
TZOFFSETFROM:-0500
TZOFFSETTO:-0600
TZNAME:CST
DTSTART:20261101T070000
END:STANDARD
END:VTIMEZONE
BEGIN:VEVENT
DTSTART;TZID=America/Chicago:20250525T100000
DTEND;TZID=America/Chicago:20250525T120000
DTSTAMP:20260420T092905
CREATED:20250317T190309Z
LAST-MODIFIED:20250526T000336Z
UID:10000286-1748167200-1748174400@simplegospelchurch.com
SUMMARY:Sunday Service
DESCRIPTION:Join us every Sunday to find real relationships that bring forth steadfast life change\, through the love of Christ experienced by everyone! \nService Time: 10AM \nLocation: Lowe Elementary School \nWe look forward to doing life with you!
URL:https://simplegospelchurch.com/event/sunday-service-simple-gospel-church/2025-05-25/
LOCATION:Lowe Elementary School\, 31502 Conifer Farm Drive\, Hockley\, TX\, 77447\, United States
END:VEVENT
BEGIN:VEVENT
DTSTART;TZID=America/Chicago:20250518T100000
DTEND;TZID=America/Chicago:20250518T120000
DTSTAMP:20260420T092905
CREATED:20250317T190309Z
LAST-MODIFIED:20250526T000336Z
UID:10000285-1747562400-1747569600@simplegospelchurch.com
SUMMARY:Sunday Service
DESCRIPTION:Join us every Sunday to find real relationships that bring forth steadfast life change\, through the love of Christ experienced by everyone! \nService Time: 10AM \nLocation: Lowe Elementary School \nWe look forward to doing life with you!
URL:https://simplegospelchurch.com/event/sunday-service-simple-gospel-church/2025-05-18/
LOCATION:Lowe Elementary School\, 31502 Conifer Farm Drive\, Hockley\, TX\, 77447\, United States
END:VEVENT
BEGIN:VEVENT
DTSTART;TZID=America/Chicago:20250511T100000
DTEND;TZID=America/Chicago:20250511T120000
DTSTAMP:20260420T092905
CREATED:20250317T190309Z
LAST-MODIFIED:20250526T000336Z
UID:10000284-1746957600-1746964800@simplegospelchurch.com
SUMMARY:Sunday Service
DESCRIPTION:Join us every Sunday to find real relationships that bring forth steadfast life change\, through the love of Christ experienced by everyone! \nService Time: 10AM \nLocation: Lowe Elementary School \nWe look forward to doing life with you!
URL:https://simplegospelchurch.com/event/sunday-service-simple-gospel-church/2025-05-11/
LOCATION:Lowe Elementary School\, 31502 Conifer Farm Drive\, Hockley\, TX\, 77447\, United States
END:VEVENT
BEGIN:VEVENT
DTSTART;TZID=America/Chicago:20250504T100000
DTEND;TZID=America/Chicago:20250504T120000
DTSTAMP:20260420T092905
CREATED:20250317T190309Z
LAST-MODIFIED:20250526T000336Z
UID:10000283-1746352800-1746360000@simplegospelchurch.com
SUMMARY:Sunday Service
DESCRIPTION:Join us every Sunday to find real relationships that bring forth steadfast life change\, through the love of Christ experienced by everyone! \nService Time: 10AM \nLocation: Lowe Elementary School \nWe look forward to doing life with you!
URL:https://simplegospelchurch.com/event/sunday-service-simple-gospel-church/2025-05-04/
LOCATION:Lowe Elementary School\, 31502 Conifer Farm Drive\, Hockley\, TX\, 77447\, United States
END:VEVENT
BEGIN:VEVENT
DTSTART;TZID=America/Chicago:20250427T100000
DTEND;TZID=America/Chicago:20250427T120000
DTSTAMP:20260420T092905
CREATED:20250317T190309Z
LAST-MODIFIED:20250526T000336Z
UID:10000282-1745748000-1745755200@simplegospelchurch.com
SUMMARY:Sunday Service
DESCRIPTION:Join us every Sunday to find real relationships that bring forth steadfast life change\, through the love of Christ experienced by everyone! \nService Time: 10AM \nLocation: Lowe Elementary School \nWe look forward to doing life with you!
URL:https://simplegospelchurch.com/event/sunday-service-simple-gospel-church/2025-04-27/
LOCATION:Lowe Elementary School\, 31502 Conifer Farm Drive\, Hockley\, TX\, 77447\, United States
END:VEVENT
BEGIN:VEVENT
DTSTART;TZID=America/Chicago:20250420T100000
DTEND;TZID=America/Chicago:20250420T120000
DTSTAMP:20260420T092905
CREATED:20250317T190309Z
LAST-MODIFIED:20250526T000336Z
UID:10000281-1745143200-1745150400@simplegospelchurch.com
SUMMARY:Sunday Service
DESCRIPTION:Join us every Sunday to find real relationships that bring forth steadfast life change\, through the love of Christ experienced by everyone! \nService Time: 10AM \nLocation: Lowe Elementary School \nWe look forward to doing life with you!
URL:https://simplegospelchurch.com/event/sunday-service-simple-gospel-church/2025-04-20/
LOCATION:Lowe Elementary School\, 31502 Conifer Farm Drive\, Hockley\, TX\, 77447\, United States
END:VEVENT
BEGIN:VEVENT
DTSTART;TZID=America/Chicago:20250413T100000
DTEND;TZID=America/Chicago:20250413T120000
DTSTAMP:20260420T092905
CREATED:20250317T190309Z
LAST-MODIFIED:20250526T000336Z
UID:10000280-1744538400-1744545600@simplegospelchurch.com
SUMMARY:Sunday Service
DESCRIPTION:Join us every Sunday to find real relationships that bring forth steadfast life change\, through the love of Christ experienced by everyone! \nService Time: 10AM \nLocation: Lowe Elementary School \nWe look forward to doing life with you!
URL:https://simplegospelchurch.com/event/sunday-service-simple-gospel-church/2025-04-13/
LOCATION:Lowe Elementary School\, 31502 Conifer Farm Drive\, Hockley\, TX\, 77447\, United States
END:VEVENT
BEGIN:VEVENT
DTSTART;TZID=America/Chicago:20250406T100000
DTEND;TZID=America/Chicago:20250406T120000
DTSTAMP:20260420T092905
CREATED:20250317T190309Z
LAST-MODIFIED:20250526T000336Z
UID:10000279-1743933600-1743940800@simplegospelchurch.com
SUMMARY:Sunday Service
DESCRIPTION:Join us every Sunday to find real relationships that bring forth steadfast life change\, through the love of Christ experienced by everyone! \nService Time: 10AM \nLocation: Lowe Elementary School \nWe look forward to doing life with you!
URL:https://simplegospelchurch.com/event/sunday-service-simple-gospel-church/2025-04-06/
LOCATION:Lowe Elementary School\, 31502 Conifer Farm Drive\, Hockley\, TX\, 77447\, United States
END:VEVENT
BEGIN:VEVENT
DTSTART;TZID=America/Chicago:20250330T100000
DTEND;TZID=America/Chicago:20250330T120000
DTSTAMP:20260420T092905
CREATED:20250317T190309Z
LAST-MODIFIED:20250526T000336Z
UID:10000278-1743328800-1743336000@simplegospelchurch.com
SUMMARY:Sunday Service
DESCRIPTION:Join us every Sunday to find real relationships that bring forth steadfast life change\, through the love of Christ experienced by everyone! \nService Time: 10AM \nLocation: Lowe Elementary School \nWe look forward to doing life with you!
URL:https://simplegospelchurch.com/event/sunday-service-simple-gospel-church/2025-03-30/
LOCATION:Lowe Elementary School\, 31502 Conifer Farm Drive\, Hockley\, TX\, 77447\, United States
END:VEVENT
BEGIN:VEVENT
DTSTART;TZID=America/Chicago:20250323T100000
DTEND;TZID=America/Chicago:20250323T120000
DTSTAMP:20260420T092905
CREATED:20250317T190309Z
LAST-MODIFIED:20250526T000336Z
UID:10000277-1742724000-1742731200@simplegospelchurch.com
SUMMARY:Sunday Service
DESCRIPTION:Join us every Sunday to find real relationships that bring forth steadfast life change\, through the love of Christ experienced by everyone! \nService Time: 10AM \nLocation: Lowe Elementary School \nWe look forward to doing life with you!
URL:https://simplegospelchurch.com/event/sunday-service-simple-gospel-church/2025-03-23/
LOCATION:Lowe Elementary School\, 31502 Conifer Farm Drive\, Hockley\, TX\, 77447\, United States
END:VEVENT
END:VCALENDAR