BEGIN:VCALENDAR
VERSION:2.0
PRODID:-//Simple Gospel Church - ECPv6.15.20//NONSGML v1.0//EN
CALSCALE:GREGORIAN
METHOD:PUBLISH
X-WR-CALNAME:Simple Gospel Church
X-ORIGINAL-URL:https://simplegospelchurch.com
X-WR-CALDESC:Events for Simple Gospel Church
REFRESH-INTERVAL;VALUE=DURATION:PT1H
X-Robots-Tag:noindex
X-PUBLISHED-TTL:PT1H
BEGIN:VTIMEZONE
TZID:America/Chicago
BEGIN:DAYLIGHT
TZOFFSETFROM:-0600
TZOFFSETTO:-0500
TZNAME:CDT
DTSTART:20260308T080000
END:DAYLIGHT
BEGIN:STANDARD
TZOFFSETFROM:-0500
TZOFFSETTO:-0600
TZNAME:CST
DTSTART:20261101T070000
END:STANDARD
BEGIN:DAYLIGHT
TZOFFSETFROM:-0600
TZOFFSETTO:-0500
TZNAME:CDT
DTSTART:20270314T080000
END:DAYLIGHT
BEGIN:STANDARD
TZOFFSETFROM:-0500
TZOFFSETTO:-0600
TZNAME:CST
DTSTART:20271107T070000
END:STANDARD
BEGIN:DAYLIGHT
TZOFFSETFROM:-0600
TZOFFSETTO:-0500
TZNAME:CDT
DTSTART:20280312T080000
END:DAYLIGHT
BEGIN:STANDARD
TZOFFSETFROM:-0500
TZOFFSETTO:-0600
TZNAME:CST
DTSTART:20281105T070000
END:STANDARD
BEGIN:DAYLIGHT
TZOFFSETFROM:-0600
TZOFFSETTO:-0500
TZNAME:CDT
DTSTART:20290311T080000
END:DAYLIGHT
BEGIN:STANDARD
TZOFFSETFROM:-0500
TZOFFSETTO:-0600
TZNAME:CST
DTSTART:20291104T070000
END:STANDARD
END:VTIMEZONE
BEGIN:VEVENT
DTSTART;TZID=America/Chicago:20271205T100000
DTEND;TZID=America/Chicago:20271205T120000
DTSTAMP:20260420T142809
CREATED:20250317T190309Z
LAST-MODIFIED:20250526T000336Z
UID:10000418-1828000800-1828008000@simplegospelchurch.com
SUMMARY:Sunday Service
DESCRIPTION:Join us every Sunday to find real relationships that bring forth steadfast life change\, through the love of Christ experienced by everyone! \nService Time: 10AM \nLocation: Lowe Elementary School \nWe look forward to doing life with you!
URL:https://simplegospelchurch.com/event/sunday-service-simple-gospel-church/2027-12-05/
LOCATION:Lowe Elementary School\, 31502 Conifer Farm Drive\, Hockley\, TX\, 77447\, United States
END:VEVENT
BEGIN:VEVENT
DTSTART;TZID=America/Chicago:20271212T100000
DTEND;TZID=America/Chicago:20271212T120000
DTSTAMP:20260420T142809
CREATED:20250317T190309Z
LAST-MODIFIED:20250526T000336Z
UID:10000419-1828605600-1828612800@simplegospelchurch.com
SUMMARY:Sunday Service
DESCRIPTION:Join us every Sunday to find real relationships that bring forth steadfast life change\, through the love of Christ experienced by everyone! \nService Time: 10AM \nLocation: Lowe Elementary School \nWe look forward to doing life with you!
URL:https://simplegospelchurch.com/event/sunday-service-simple-gospel-church/2027-12-12/
LOCATION:Lowe Elementary School\, 31502 Conifer Farm Drive\, Hockley\, TX\, 77447\, United States
END:VEVENT
BEGIN:VEVENT
DTSTART;TZID=America/Chicago:20271219T100000
DTEND;TZID=America/Chicago:20271219T120000
DTSTAMP:20260420T142809
CREATED:20250317T190309Z
LAST-MODIFIED:20250526T000336Z
UID:10000420-1829210400-1829217600@simplegospelchurch.com
SUMMARY:Sunday Service
DESCRIPTION:Join us every Sunday to find real relationships that bring forth steadfast life change\, through the love of Christ experienced by everyone! \nService Time: 10AM \nLocation: Lowe Elementary School \nWe look forward to doing life with you!
URL:https://simplegospelchurch.com/event/sunday-service-simple-gospel-church/2027-12-19/
LOCATION:Lowe Elementary School\, 31502 Conifer Farm Drive\, Hockley\, TX\, 77447\, United States
END:VEVENT
BEGIN:VEVENT
DTSTART;TZID=America/Chicago:20271226T100000
DTEND;TZID=America/Chicago:20271226T120000
DTSTAMP:20260420T142809
CREATED:20250317T190309Z
LAST-MODIFIED:20250526T000336Z
UID:10000421-1829815200-1829822400@simplegospelchurch.com
SUMMARY:Sunday Service
DESCRIPTION:Join us every Sunday to find real relationships that bring forth steadfast life change\, through the love of Christ experienced by everyone! \nService Time: 10AM \nLocation: Lowe Elementary School \nWe look forward to doing life with you!
URL:https://simplegospelchurch.com/event/sunday-service-simple-gospel-church/2027-12-26/
LOCATION:Lowe Elementary School\, 31502 Conifer Farm Drive\, Hockley\, TX\, 77447\, United States
END:VEVENT
BEGIN:VEVENT
DTSTART;TZID=America/Chicago:20280102T100000
DTEND;TZID=America/Chicago:20280102T120000
DTSTAMP:20260420T142809
CREATED:20250317T190309Z
LAST-MODIFIED:20250526T000336Z
UID:10000422-1830420000-1830427200@simplegospelchurch.com
SUMMARY:Sunday Service
DESCRIPTION:Join us every Sunday to find real relationships that bring forth steadfast life change\, through the love of Christ experienced by everyone! \nService Time: 10AM \nLocation: Lowe Elementary School \nWe look forward to doing life with you!
URL:https://simplegospelchurch.com/event/sunday-service-simple-gospel-church/2028-01-02/
LOCATION:Lowe Elementary School\, 31502 Conifer Farm Drive\, Hockley\, TX\, 77447\, United States
END:VEVENT
BEGIN:VEVENT
DTSTART;TZID=America/Chicago:20280109T100000
DTEND;TZID=America/Chicago:20280109T120000
DTSTAMP:20260420T142809
CREATED:20250317T190309Z
LAST-MODIFIED:20250526T000336Z
UID:10000423-1831024800-1831032000@simplegospelchurch.com
SUMMARY:Sunday Service
DESCRIPTION:Join us every Sunday to find real relationships that bring forth steadfast life change\, through the love of Christ experienced by everyone! \nService Time: 10AM \nLocation: Lowe Elementary School \nWe look forward to doing life with you!
URL:https://simplegospelchurch.com/event/sunday-service-simple-gospel-church/2028-01-09/
LOCATION:Lowe Elementary School\, 31502 Conifer Farm Drive\, Hockley\, TX\, 77447\, United States
END:VEVENT
BEGIN:VEVENT
DTSTART;TZID=America/Chicago:20280116T100000
DTEND;TZID=America/Chicago:20280116T120000
DTSTAMP:20260420T142809
CREATED:20250317T190309Z
LAST-MODIFIED:20250526T000336Z
UID:10000424-1831629600-1831636800@simplegospelchurch.com
SUMMARY:Sunday Service
DESCRIPTION:Join us every Sunday to find real relationships that bring forth steadfast life change\, through the love of Christ experienced by everyone! \nService Time: 10AM \nLocation: Lowe Elementary School \nWe look forward to doing life with you!
URL:https://simplegospelchurch.com/event/sunday-service-simple-gospel-church/2028-01-16/
LOCATION:Lowe Elementary School\, 31502 Conifer Farm Drive\, Hockley\, TX\, 77447\, United States
END:VEVENT
BEGIN:VEVENT
DTSTART;TZID=America/Chicago:20280123T100000
DTEND;TZID=America/Chicago:20280123T120000
DTSTAMP:20260420T142809
CREATED:20250317T190309Z
LAST-MODIFIED:20250526T000336Z
UID:10000425-1832234400-1832241600@simplegospelchurch.com
SUMMARY:Sunday Service
DESCRIPTION:Join us every Sunday to find real relationships that bring forth steadfast life change\, through the love of Christ experienced by everyone! \nService Time: 10AM \nLocation: Lowe Elementary School \nWe look forward to doing life with you!
URL:https://simplegospelchurch.com/event/sunday-service-simple-gospel-church/2028-01-23/
LOCATION:Lowe Elementary School\, 31502 Conifer Farm Drive\, Hockley\, TX\, 77447\, United States
END:VEVENT
BEGIN:VEVENT
DTSTART;TZID=America/Chicago:20280130T100000
DTEND;TZID=America/Chicago:20280130T120000
DTSTAMP:20260420T142809
CREATED:20250317T190309Z
LAST-MODIFIED:20250526T000336Z
UID:10000426-1832839200-1832846400@simplegospelchurch.com
SUMMARY:Sunday Service
DESCRIPTION:Join us every Sunday to find real relationships that bring forth steadfast life change\, through the love of Christ experienced by everyone! \nService Time: 10AM \nLocation: Lowe Elementary School \nWe look forward to doing life with you!
URL:https://simplegospelchurch.com/event/sunday-service-simple-gospel-church/2028-01-30/
LOCATION:Lowe Elementary School\, 31502 Conifer Farm Drive\, Hockley\, TX\, 77447\, United States
END:VEVENT
BEGIN:VEVENT
DTSTART;TZID=America/Chicago:20280206T100000
DTEND;TZID=America/Chicago:20280206T120000
DTSTAMP:20260420T142809
CREATED:20250317T190309Z
LAST-MODIFIED:20250526T000336Z
UID:10000427-1833444000-1833451200@simplegospelchurch.com
SUMMARY:Sunday Service
DESCRIPTION:Join us every Sunday to find real relationships that bring forth steadfast life change\, through the love of Christ experienced by everyone! \nService Time: 10AM \nLocation: Lowe Elementary School \nWe look forward to doing life with you!
URL:https://simplegospelchurch.com/event/sunday-service-simple-gospel-church/2028-02-06/
LOCATION:Lowe Elementary School\, 31502 Conifer Farm Drive\, Hockley\, TX\, 77447\, United States
END:VEVENT
BEGIN:VEVENT
DTSTART;TZID=America/Chicago:20280213T100000
DTEND;TZID=America/Chicago:20280213T120000
DTSTAMP:20260420T142809
CREATED:20250317T190309Z
LAST-MODIFIED:20250526T000336Z
UID:10000428-1834048800-1834056000@simplegospelchurch.com
SUMMARY:Sunday Service
DESCRIPTION:Join us every Sunday to find real relationships that bring forth steadfast life change\, through the love of Christ experienced by everyone! \nService Time: 10AM \nLocation: Lowe Elementary School \nWe look forward to doing life with you!
URL:https://simplegospelchurch.com/event/sunday-service-simple-gospel-church/2028-02-13/
LOCATION:Lowe Elementary School\, 31502 Conifer Farm Drive\, Hockley\, TX\, 77447\, United States
END:VEVENT
BEGIN:VEVENT
DTSTART;TZID=America/Chicago:20280220T100000
DTEND;TZID=America/Chicago:20280220T120000
DTSTAMP:20260420T142809
CREATED:20250317T190309Z
LAST-MODIFIED:20250526T000336Z
UID:10000429-1834653600-1834660800@simplegospelchurch.com
SUMMARY:Sunday Service
DESCRIPTION:Join us every Sunday to find real relationships that bring forth steadfast life change\, through the love of Christ experienced by everyone! \nService Time: 10AM \nLocation: Lowe Elementary School \nWe look forward to doing life with you!
URL:https://simplegospelchurch.com/event/sunday-service-simple-gospel-church/2028-02-20/
LOCATION:Lowe Elementary School\, 31502 Conifer Farm Drive\, Hockley\, TX\, 77447\, United States
END:VEVENT
BEGIN:VEVENT
DTSTART;TZID=America/Chicago:20280227T100000
DTEND;TZID=America/Chicago:20280227T120000
DTSTAMP:20260420T142809
CREATED:20250317T190309Z
LAST-MODIFIED:20250526T000336Z
UID:10000430-1835258400-1835265600@simplegospelchurch.com
SUMMARY:Sunday Service
DESCRIPTION:Join us every Sunday to find real relationships that bring forth steadfast life change\, through the love of Christ experienced by everyone! \nService Time: 10AM \nLocation: Lowe Elementary School \nWe look forward to doing life with you!
URL:https://simplegospelchurch.com/event/sunday-service-simple-gospel-church/2028-02-27/
LOCATION:Lowe Elementary School\, 31502 Conifer Farm Drive\, Hockley\, TX\, 77447\, United States
END:VEVENT
BEGIN:VEVENT
DTSTART;TZID=America/Chicago:20280305T100000
DTEND;TZID=America/Chicago:20280305T120000
DTSTAMP:20260420T142809
CREATED:20250317T190309Z
LAST-MODIFIED:20250526T000336Z
UID:10000431-1835863200-1835870400@simplegospelchurch.com
SUMMARY:Sunday Service
DESCRIPTION:Join us every Sunday to find real relationships that bring forth steadfast life change\, through the love of Christ experienced by everyone! \nService Time: 10AM \nLocation: Lowe Elementary School \nWe look forward to doing life with you!
URL:https://simplegospelchurch.com/event/sunday-service-simple-gospel-church/2028-03-05/
LOCATION:Lowe Elementary School\, 31502 Conifer Farm Drive\, Hockley\, TX\, 77447\, United States
END:VEVENT
BEGIN:VEVENT
DTSTART;TZID=America/Chicago:20280312T100000
DTEND;TZID=America/Chicago:20280312T120000
DTSTAMP:20260420T142809
CREATED:20250317T190309Z
LAST-MODIFIED:20250526T000336Z
UID:10000432-1836468000-1836475200@simplegospelchurch.com
SUMMARY:Sunday Service
DESCRIPTION:Join us every Sunday to find real relationships that bring forth steadfast life change\, through the love of Christ experienced by everyone! \nService Time: 10AM \nLocation: Lowe Elementary School \nWe look forward to doing life with you!
URL:https://simplegospelchurch.com/event/sunday-service-simple-gospel-church/2028-03-12/
LOCATION:Lowe Elementary School\, 31502 Conifer Farm Drive\, Hockley\, TX\, 77447\, United States
END:VEVENT
BEGIN:VEVENT
DTSTART;TZID=America/Chicago:20280319T100000
DTEND;TZID=America/Chicago:20280319T120000
DTSTAMP:20260420T142809
CREATED:20250317T190309Z
LAST-MODIFIED:20250526T000336Z
UID:10000433-1837072800-1837080000@simplegospelchurch.com
SUMMARY:Sunday Service
DESCRIPTION:Join us every Sunday to find real relationships that bring forth steadfast life change\, through the love of Christ experienced by everyone! \nService Time: 10AM \nLocation: Lowe Elementary School \nWe look forward to doing life with you!
URL:https://simplegospelchurch.com/event/sunday-service-simple-gospel-church/2028-03-19/
LOCATION:Lowe Elementary School\, 31502 Conifer Farm Drive\, Hockley\, TX\, 77447\, United States
END:VEVENT
BEGIN:VEVENT
DTSTART;TZID=America/Chicago:20280326T100000
DTEND;TZID=America/Chicago:20280326T120000
DTSTAMP:20260420T142809
CREATED:20250317T190309Z
LAST-MODIFIED:20250526T000336Z
UID:10000434-1837677600-1837684800@simplegospelchurch.com
SUMMARY:Sunday Service
DESCRIPTION:Join us every Sunday to find real relationships that bring forth steadfast life change\, through the love of Christ experienced by everyone! \nService Time: 10AM \nLocation: Lowe Elementary School \nWe look forward to doing life with you!
URL:https://simplegospelchurch.com/event/sunday-service-simple-gospel-church/2028-03-26/
LOCATION:Lowe Elementary School\, 31502 Conifer Farm Drive\, Hockley\, TX\, 77447\, United States
END:VEVENT
BEGIN:VEVENT
DTSTART;TZID=America/Chicago:20280402T100000
DTEND;TZID=America/Chicago:20280402T120000
DTSTAMP:20260420T142809
CREATED:20250317T190309Z
LAST-MODIFIED:20250526T000336Z
UID:10000435-1838282400-1838289600@simplegospelchurch.com
SUMMARY:Sunday Service
DESCRIPTION:Join us every Sunday to find real relationships that bring forth steadfast life change\, through the love of Christ experienced by everyone! \nService Time: 10AM \nLocation: Lowe Elementary School \nWe look forward to doing life with you!
URL:https://simplegospelchurch.com/event/sunday-service-simple-gospel-church/2028-04-02/
LOCATION:Lowe Elementary School\, 31502 Conifer Farm Drive\, Hockley\, TX\, 77447\, United States
END:VEVENT
BEGIN:VEVENT
DTSTART;TZID=America/Chicago:20280409T100000
DTEND;TZID=America/Chicago:20280409T120000
DTSTAMP:20260420T142809
CREATED:20250317T190309Z
LAST-MODIFIED:20250526T000336Z
UID:10000436-1838887200-1838894400@simplegospelchurch.com
SUMMARY:Sunday Service
DESCRIPTION:Join us every Sunday to find real relationships that bring forth steadfast life change\, through the love of Christ experienced by everyone! \nService Time: 10AM \nLocation: Lowe Elementary School \nWe look forward to doing life with you!
URL:https://simplegospelchurch.com/event/sunday-service-simple-gospel-church/2028-04-09/
LOCATION:Lowe Elementary School\, 31502 Conifer Farm Drive\, Hockley\, TX\, 77447\, United States
END:VEVENT
BEGIN:VEVENT
DTSTART;TZID=America/Chicago:20280416T100000
DTEND;TZID=America/Chicago:20280416T120000
DTSTAMP:20260420T142809
CREATED:20250317T190309Z
LAST-MODIFIED:20250526T000336Z
UID:10000437-1839492000-1839499200@simplegospelchurch.com
SUMMARY:Sunday Service
DESCRIPTION:Join us every Sunday to find real relationships that bring forth steadfast life change\, through the love of Christ experienced by everyone! \nService Time: 10AM \nLocation: Lowe Elementary School \nWe look forward to doing life with you!
URL:https://simplegospelchurch.com/event/sunday-service-simple-gospel-church/2028-04-16/
LOCATION:Lowe Elementary School\, 31502 Conifer Farm Drive\, Hockley\, TX\, 77447\, United States
END:VEVENT
BEGIN:VEVENT
DTSTART;TZID=America/Chicago:20280423T100000
DTEND;TZID=America/Chicago:20280423T120000
DTSTAMP:20260420T142809
CREATED:20250317T190309Z
LAST-MODIFIED:20250526T000336Z
UID:10000438-1840096800-1840104000@simplegospelchurch.com
SUMMARY:Sunday Service
DESCRIPTION:Join us every Sunday to find real relationships that bring forth steadfast life change\, through the love of Christ experienced by everyone! \nService Time: 10AM \nLocation: Lowe Elementary School \nWe look forward to doing life with you!
URL:https://simplegospelchurch.com/event/sunday-service-simple-gospel-church/2028-04-23/
LOCATION:Lowe Elementary School\, 31502 Conifer Farm Drive\, Hockley\, TX\, 77447\, United States
END:VEVENT
BEGIN:VEVENT
DTSTART;TZID=America/Chicago:20280430T100000
DTEND;TZID=America/Chicago:20280430T120000
DTSTAMP:20260420T142809
CREATED:20250317T190309Z
LAST-MODIFIED:20250526T000336Z
UID:10000439-1840701600-1840708800@simplegospelchurch.com
SUMMARY:Sunday Service
DESCRIPTION:Join us every Sunday to find real relationships that bring forth steadfast life change\, through the love of Christ experienced by everyone! \nService Time: 10AM \nLocation: Lowe Elementary School \nWe look forward to doing life with you!
URL:https://simplegospelchurch.com/event/sunday-service-simple-gospel-church/2028-04-30/
LOCATION:Lowe Elementary School\, 31502 Conifer Farm Drive\, Hockley\, TX\, 77447\, United States
END:VEVENT
BEGIN:VEVENT
DTSTART;TZID=America/Chicago:20280507T100000
DTEND;TZID=America/Chicago:20280507T120000
DTSTAMP:20260420T142809
CREATED:20250317T190309Z
LAST-MODIFIED:20250526T000336Z
UID:10000440-1841306400-1841313600@simplegospelchurch.com
SUMMARY:Sunday Service
DESCRIPTION:Join us every Sunday to find real relationships that bring forth steadfast life change\, through the love of Christ experienced by everyone! \nService Time: 10AM \nLocation: Lowe Elementary School \nWe look forward to doing life with you!
URL:https://simplegospelchurch.com/event/sunday-service-simple-gospel-church/2028-05-07/
LOCATION:Lowe Elementary School\, 31502 Conifer Farm Drive\, Hockley\, TX\, 77447\, United States
END:VEVENT
BEGIN:VEVENT
DTSTART;TZID=America/Chicago:20280514T100000
DTEND;TZID=America/Chicago:20280514T120000
DTSTAMP:20260420T142809
CREATED:20250317T190309Z
LAST-MODIFIED:20250526T000336Z
UID:10000441-1841911200-1841918400@simplegospelchurch.com
SUMMARY:Sunday Service
DESCRIPTION:Join us every Sunday to find real relationships that bring forth steadfast life change\, through the love of Christ experienced by everyone! \nService Time: 10AM \nLocation: Lowe Elementary School \nWe look forward to doing life with you!
URL:https://simplegospelchurch.com/event/sunday-service-simple-gospel-church/2028-05-14/
LOCATION:Lowe Elementary School\, 31502 Conifer Farm Drive\, Hockley\, TX\, 77447\, United States
END:VEVENT
BEGIN:VEVENT
DTSTART;TZID=America/Chicago:20280521T100000
DTEND;TZID=America/Chicago:20280521T120000
DTSTAMP:20260420T142809
CREATED:20250317T190309Z
LAST-MODIFIED:20250526T000336Z
UID:10000442-1842516000-1842523200@simplegospelchurch.com
SUMMARY:Sunday Service
DESCRIPTION:Join us every Sunday to find real relationships that bring forth steadfast life change\, through the love of Christ experienced by everyone! \nService Time: 10AM \nLocation: Lowe Elementary School \nWe look forward to doing life with you!
URL:https://simplegospelchurch.com/event/sunday-service-simple-gospel-church/2028-05-21/
LOCATION:Lowe Elementary School\, 31502 Conifer Farm Drive\, Hockley\, TX\, 77447\, United States
END:VEVENT
BEGIN:VEVENT
DTSTART;TZID=America/Chicago:20280528T100000
DTEND;TZID=America/Chicago:20280528T120000
DTSTAMP:20260420T142809
CREATED:20250317T190309Z
LAST-MODIFIED:20250526T000336Z
UID:10000443-1843120800-1843128000@simplegospelchurch.com
SUMMARY:Sunday Service
DESCRIPTION:Join us every Sunday to find real relationships that bring forth steadfast life change\, through the love of Christ experienced by everyone! \nService Time: 10AM \nLocation: Lowe Elementary School \nWe look forward to doing life with you!
URL:https://simplegospelchurch.com/event/sunday-service-simple-gospel-church/2028-05-28/
LOCATION:Lowe Elementary School\, 31502 Conifer Farm Drive\, Hockley\, TX\, 77447\, United States
END:VEVENT
BEGIN:VEVENT
DTSTART;TZID=America/Chicago:20280604T100000
DTEND;TZID=America/Chicago:20280604T120000
DTSTAMP:20260420T142809
CREATED:20250317T190309Z
LAST-MODIFIED:20250526T000336Z
UID:10000444-1843725600-1843732800@simplegospelchurch.com
SUMMARY:Sunday Service
DESCRIPTION:Join us every Sunday to find real relationships that bring forth steadfast life change\, through the love of Christ experienced by everyone! \nService Time: 10AM \nLocation: Lowe Elementary School \nWe look forward to doing life with you!
URL:https://simplegospelchurch.com/event/sunday-service-simple-gospel-church/2028-06-04/
LOCATION:Lowe Elementary School\, 31502 Conifer Farm Drive\, Hockley\, TX\, 77447\, United States
END:VEVENT
BEGIN:VEVENT
DTSTART;TZID=America/Chicago:20280611T100000
DTEND;TZID=America/Chicago:20280611T120000
DTSTAMP:20260420T142810
CREATED:20250317T190309Z
LAST-MODIFIED:20250526T000336Z
UID:10000445-1844330400-1844337600@simplegospelchurch.com
SUMMARY:Sunday Service
DESCRIPTION:Join us every Sunday to find real relationships that bring forth steadfast life change\, through the love of Christ experienced by everyone! \nService Time: 10AM \nLocation: Lowe Elementary School \nWe look forward to doing life with you!
URL:https://simplegospelchurch.com/event/sunday-service-simple-gospel-church/2028-06-11/
LOCATION:Lowe Elementary School\, 31502 Conifer Farm Drive\, Hockley\, TX\, 77447\, United States
END:VEVENT
BEGIN:VEVENT
DTSTART;TZID=America/Chicago:20280618T100000
DTEND;TZID=America/Chicago:20280618T120000
DTSTAMP:20260420T142810
CREATED:20250317T190309Z
LAST-MODIFIED:20250526T000336Z
UID:10000446-1844935200-1844942400@simplegospelchurch.com
SUMMARY:Sunday Service
DESCRIPTION:Join us every Sunday to find real relationships that bring forth steadfast life change\, through the love of Christ experienced by everyone! \nService Time: 10AM \nLocation: Lowe Elementary School \nWe look forward to doing life with you!
URL:https://simplegospelchurch.com/event/sunday-service-simple-gospel-church/2028-06-18/
LOCATION:Lowe Elementary School\, 31502 Conifer Farm Drive\, Hockley\, TX\, 77447\, United States
END:VEVENT
BEGIN:VEVENT
DTSTART;TZID=America/Chicago:20280625T100000
DTEND;TZID=America/Chicago:20280625T120000
DTSTAMP:20260420T142810
CREATED:20250317T190309Z
LAST-MODIFIED:20250526T000336Z
UID:10000447-1845540000-1845547200@simplegospelchurch.com
SUMMARY:Sunday Service
DESCRIPTION:Join us every Sunday to find real relationships that bring forth steadfast life change\, through the love of Christ experienced by everyone! \nService Time: 10AM \nLocation: Lowe Elementary School \nWe look forward to doing life with you!
URL:https://simplegospelchurch.com/event/sunday-service-simple-gospel-church/2028-06-25/
LOCATION:Lowe Elementary School\, 31502 Conifer Farm Drive\, Hockley\, TX\, 77447\, United States
END:VEVENT
END:VCALENDAR